BEGIN:VCALENDAR
VERSION:2.0
PRODID:-//Volunteer Centre of Southeastern New Brunswick | Centre du Bénévolat du Sud-Est du Nouveau-Brunswick inc. - ECPv6.15.20//NONSGML v1.0//EN
CALSCALE:GREGORIAN
METHOD:PUBLISH
X-WR-CALNAME:Volunteer Centre of Southeastern New Brunswick | Centre du Bénévolat du Sud-Est du Nouveau-Brunswick inc.
X-ORIGINAL-URL:https://volunteergreatermoncton.com
X-WR-CALDESC:Events for Volunteer Centre of Southeastern New Brunswick | Centre du Bénévolat du Sud-Est du Nouveau-Brunswick inc.
REFRESH-INTERVAL;VALUE=DURATION:PT1H
X-Robots-Tag:noindex
X-PUBLISHED-TTL:PT1H
BEGIN:VTIMEZONE
TZID:America/Moncton
BEGIN:DAYLIGHT
TZOFFSETFROM:-0400
TZOFFSETTO:-0300
TZNAME:ADT
DTSTART:20200308T060000
END:DAYLIGHT
BEGIN:STANDARD
TZOFFSETFROM:-0300
TZOFFSETTO:-0400
TZNAME:AST
DTSTART:20201101T050000
END:STANDARD
BEGIN:DAYLIGHT
TZOFFSETFROM:-0400
TZOFFSETTO:-0300
TZNAME:ADT
DTSTART:20210314T060000
END:DAYLIGHT
BEGIN:STANDARD
TZOFFSETFROM:-0300
TZOFFSETTO:-0400
TZNAME:AST
DTSTART:20211107T050000
END:STANDARD
BEGIN:DAYLIGHT
TZOFFSETFROM:-0400
TZOFFSETTO:-0300
TZNAME:ADT
DTSTART:20220313T060000
END:DAYLIGHT
BEGIN:STANDARD
TZOFFSETFROM:-0300
TZOFFSETTO:-0400
TZNAME:AST
DTSTART:20221106T050000
END:STANDARD
END:VTIMEZONE
BEGIN:VEVENT
DTSTART;TZID=America/Moncton:20211123T120000
DTEND;TZID=America/Moncton:20211123T130000
DTSTAMP:20260423T065426
CREATED:20221121T211740Z
LAST-MODIFIED:20221121T212335Z
UID:10000058-1637668800-1637672400@volunteergreatermoncton.com
SUMMARY:Sessions d'information virtuelle sur le programme CLEF à la maison
DESCRIPTION:Littératie au primaire est une organisation néo-brunswickoise qui élabore des programmes d’alphabétisation à destination des élèves du primaire. \nNous sommes actuellement à la recherche de personnes qui souhaitent donner de leur temps à ces élèves avec notre programme virtuelnCLEF à la maison. Nous souhaitons partager avec toi une opportunité de faire du bénévolat de façon virtuelle avec un ou une élève francophone (1ère à la 3ème primaire) afin de développer ses compétences en lecture. Notre programme contient 20 séances virtuelles de 45 minutes à faire avec l’élève. \nCet échange virtuel permet aux élèves du primaire d’être soutenus dans leur pratique de la lecture et permet aux bénévoles de vivre une expérience valorisante en aidant un élève avec l’apprentissage de la lecture. \nActuellement nous avons sur notre liste d’attente 20 élèves du primaire inscrits au programme qui attendent toujours d’être jumelés\n!! Nous avons urgemment besoin de toi !! \nSi tu es intéressé(e)\, nous t’invitons à assister\nà l’une de nos 2 prochaines sessions d’information virtuelle sur le programme CLEF à la maison qui auront lieu la semaine prochaine.\n(23 et 25 novembre à 12h) Tu peux t’inscrire en suivant ce lien : https://forms.gle/Fb22cZ4tEd2cfxvK8. \nVoici nos vidéos de promotion : \n \n \nN’hésitez pas à communiquer avec moi si vous souhaitez de plus amples informations. \nCordialement\, \nAli Lemaire
URL:https://volunteergreatermoncton.com/event/sessions-dinformation-virtuelle-sur-le-programme-clef-a-la-maison/
CATEGORIES:Community
ATTACH;FMTTYPE=image/jpeg:https://volunteergreatermoncton.com/wp-content/uploads/2021/08/literacie.jpg
END:VEVENT
BEGIN:VEVENT
DTSTART;TZID=America/Moncton:20211126T000000
DTEND;TZID=America/Moncton:20211219T000000
DTSTAMP:20260423T065426
CREATED:20221121T193702Z
LAST-MODIFIED:20221121T194523Z
UID:10000048-1637884800-1639872000@volunteergreatermoncton.com
SUMMARY:The Boys & Girls Club of Riverview Christmas Tree Lot!
DESCRIPTION:The Boys & Girls Club of Riverview is excited to announce it is launching its ever-popular Christmas Tree Lot! This annual fundraiser provides the Club necessary funds to support the much-needed programs we run in our community. We are looking for volunteers to help with the selling of trees and wreaths this year. We will be open on Friday\, November 26th at 5pm and plan to close on December 19th – or when the trees run out\, whichever comes first!  This is such a great opportunity for team building or getting your friends together for a few hours of fun and volunteering.  It’s the time of year that we are all looking for ways to give back.  This is a fun way to do so and it is so rewarding. \nThe lot is located on the Downey’s Home Hardware parking lot on Pinewood Road\, in Riverview\, across from the fire department. If this sounds like a perfect team building event that promises to be fun and festive\, call us at 387-7070 x 2 or email lyndacarey@bgcriverview.com. We would love to have you come help us and enjoy this wonderful time of year!
URL:https://volunteergreatermoncton.com/event/the-boys-girls-club-of-riverview-christmas-tree-lot/
CATEGORIES:Community
ATTACH;FMTTYPE=image/jpeg:https://volunteergreatermoncton.com/wp-content/uploads/2021/11/bbg.jpg
END:VEVENT
END:VCALENDAR