BEGIN:VCALENDAR
VERSION:2.0
PRODID:-//Volunteer Centre of Southeastern New Brunswick | Centre du Bénévolat du Sud-Est du Nouveau-Brunswick inc. - ECPv6.15.20//NONSGML v1.0//EN
CALSCALE:GREGORIAN
METHOD:PUBLISH
X-ORIGINAL-URL:https://volunteergreatermoncton.com
X-WR-CALDESC:Events for Volunteer Centre of Southeastern New Brunswick | Centre du Bénévolat du Sud-Est du Nouveau-Brunswick inc.
REFRESH-INTERVAL;VALUE=DURATION:PT1H
X-Robots-Tag:noindex
X-PUBLISHED-TTL:PT1H
BEGIN:VTIMEZONE
TZID:America/Moncton
BEGIN:DAYLIGHT
TZOFFSETFROM:-0400
TZOFFSETTO:-0300
TZNAME:ADT
DTSTART:20210314T060000
END:DAYLIGHT
BEGIN:STANDARD
TZOFFSETFROM:-0300
TZOFFSETTO:-0400
TZNAME:AST
DTSTART:20211107T050000
END:STANDARD
BEGIN:DAYLIGHT
TZOFFSETFROM:-0400
TZOFFSETTO:-0300
TZNAME:ADT
DTSTART:20220313T060000
END:DAYLIGHT
BEGIN:STANDARD
TZOFFSETFROM:-0300
TZOFFSETTO:-0400
TZNAME:AST
DTSTART:20221106T050000
END:STANDARD
BEGIN:DAYLIGHT
TZOFFSETFROM:-0400
TZOFFSETTO:-0300
TZNAME:ADT
DTSTART:20230312T060000
END:DAYLIGHT
BEGIN:STANDARD
TZOFFSETFROM:-0300
TZOFFSETTO:-0400
TZNAME:AST
DTSTART:20231105T050000
END:STANDARD
END:VTIMEZONE
BEGIN:VEVENT
DTSTART;TZID=America/Moncton:20220607T073000
DTEND;TZID=America/Moncton:20220607T093000
DTSTAMP:20260422T195159
CREATED:20220922T190033Z
LAST-MODIFIED:20220928T233947Z
UID:10000010-1654587000-1654594200@volunteergreatermoncton.com
SUMMARY:Volunteer Recognition Event!
DESCRIPTION:Volunteers are Empathy in Action\nVolunteer Recognition Event!\nA special event was held to thank our tri-community heroes who stepped up to help others during the pandemic.\nDate: Tuesday\, June 7th\, 2022\nTime: 7:30 a.m. to 9:30 a.m.\nBringing Greetings: Mayor Yvan Lapierre – Dieppe\nMayor Dawn Arnold – Moncton\nMayor Andrew LeBlanc – Riverview\nGuest Speakers: Representatives from Community Food Bank\, Public Health and Urban Rural Rides\nDue to the Pandemic we are not having a Public Event [by invitation only]; however would invite you to join us \nLIVE STREAM IN HONOURING COMMUNITY VOLUNTEERS\nVolunteer Centre Facebook https://www.facebook.com/Volunteer-Center-Moncton-Volunteer-Centre-of-Southeastern-New-Brunswick-180888638919688/ \nEvent Sponsors : IRVING  :  Major Sponsor  /  RBC  :  Sponsor
URL:https://volunteergreatermoncton.com/event/volunteer-recognition-event/
CATEGORIES:Community
ATTACH;FMTTYPE=image/jpeg:https://volunteergreatermoncton.com/wp-content/uploads/2022/01/vcb-week.jpg
END:VEVENT
BEGIN:VEVENT
DTSTART;TZID=America/Moncton:20220621T050000
DTEND;TZID=America/Moncton:20220621T213000
DTSTAMP:20260422T195159
CREATED:20221003T194229Z
LAST-MODIFIED:20221121T190418Z
UID:10000031-1655787600-1655847000@volunteergreatermoncton.com
SUMMARY:June 21 is National Indigenous Peoples Day
DESCRIPTION:June 21 is National Indigenous Peoples Day. This is a day for all Canadians to recognize and celebrate the unique heritage\, diverse cultures and outstanding contributions of First Nations\, Inuit and Métis peoples. The Canadian Constitution recognizes these three groups as Aboriginal peoples\, also known as Indigenous peoples. \nAlthough these groups share many similarities\, they each have their own distinct heritage\, language\, cultural practices and spiritual beliefs. \nIn cooperation with Indigenous organizations\, the Government of Canada chose June 21\, the summer solstice\, for National Aboriginal Day\, now known as National Indigenous Peoples Day. For generations\, many Indigenous peoples and communities have celebrated their culture and heritage on or near this day due to the significance of the summer solstice as the longest day of the year. \n About National Indigenous People Day \nFind Government of Canada programs and services for First Nations\, Inuit and Métis. Learn more about Indigenous peoples and communities.
URL:https://volunteergreatermoncton.com/event/june-21-is-national-indigenous-peoples-day/
CATEGORIES:Community
ATTACH;FMTTYPE=image/jpeg:https://volunteergreatermoncton.com/wp-content/uploads/2022/06/indigenous-day.jpg
END:VEVENT
END:VCALENDAR