BEGIN:VCALENDAR
VERSION:2.0
PRODID:-//Volunteer Centre of Southeastern New Brunswick | Centre du Bénévolat du Sud-Est du Nouveau-Brunswick inc. - ECPv6.15.20//NONSGML v1.0//EN
CALSCALE:GREGORIAN
METHOD:PUBLISH
X-ORIGINAL-URL:https://volunteergreatermoncton.com
X-WR-CALDESC:Events for Volunteer Centre of Southeastern New Brunswick | Centre du Bénévolat du Sud-Est du Nouveau-Brunswick inc.
REFRESH-INTERVAL;VALUE=DURATION:PT1H
X-Robots-Tag:noindex
X-PUBLISHED-TTL:PT1H
BEGIN:VTIMEZONE
TZID:America/Moncton
BEGIN:DAYLIGHT
TZOFFSETFROM:-0400
TZOFFSETTO:-0300
TZNAME:ADT
DTSTART:20210314T060000
END:DAYLIGHT
BEGIN:STANDARD
TZOFFSETFROM:-0300
TZOFFSETTO:-0400
TZNAME:AST
DTSTART:20211107T050000
END:STANDARD
BEGIN:DAYLIGHT
TZOFFSETFROM:-0400
TZOFFSETTO:-0300
TZNAME:ADT
DTSTART:20220313T060000
END:DAYLIGHT
BEGIN:STANDARD
TZOFFSETFROM:-0300
TZOFFSETTO:-0400
TZNAME:AST
DTSTART:20221106T050000
END:STANDARD
BEGIN:DAYLIGHT
TZOFFSETFROM:-0400
TZOFFSETTO:-0300
TZNAME:ADT
DTSTART:20230312T060000
END:DAYLIGHT
BEGIN:STANDARD
TZOFFSETFROM:-0300
TZOFFSETTO:-0400
TZNAME:AST
DTSTART:20231105T050000
END:STANDARD
END:VTIMEZONE
BEGIN:VEVENT
DTSTART;TZID=America/Moncton:20220824T170000
DTEND;TZID=America/Moncton:20220824T190000
DTSTAMP:20260422T162304
CREATED:20220922T124428Z
LAST-MODIFIED:20220929T015538Z
UID:10000008-1661360400-1661367600@volunteergreatermoncton.com
SUMMARY:Maison ALBERT House
DESCRIPTION:Time flies! On 24 August\, we will be celebrating the first anniversary of the opening of the Maison Albert House. Join us for a small celebration surrounded by friends and partners. Please RSVP to marisa@hospicesenb.ca.
URL:https://volunteergreatermoncton.com/event/maison-albert-house/
CATEGORIES:Community
ATTACH;FMTTYPE=image/jpeg:https://volunteergreatermoncton.com/wp-content/uploads/2022/08/maison-albert-anniversaire.jpg
END:VEVENT
BEGIN:VEVENT
DTSTART;TZID=America/Moncton:20220826T160000
DTEND;TZID=America/Moncton:20220826T183000
DTSTAMP:20260422T162304
CREATED:20220922T001109Z
LAST-MODIFIED:20220922T001109Z
UID:10000004-1661529600-1661538600@volunteergreatermoncton.com
SUMMARY:3rd Annual RIBFEST
DESCRIPTION:We are so grateful that this group is repeating this awesome event in support of our club and programs.  The meal is delicious and you pick it up in a quick drive thru way!  You just need to pre order and pay when you pick it up.  So easy!  Just call 386-7279 to order.  There is a limited number of orders being taken so don’t miss out! \nMUST PRE ORDER
URL:https://volunteergreatermoncton.com/event/3rd-annual-ribfest/
CATEGORIES:Community
ATTACH;FMTTYPE=image/jpeg:https://volunteergreatermoncton.com/wp-content/uploads/2022/08/rob-fest.jpg
END:VEVENT
BEGIN:VEVENT
DTSTART;VALUE=DATE:20220827
DTEND;VALUE=DATE:20220830
DTSTAMP:20260422T162304
CREATED:20220922T185544Z
LAST-MODIFIED:20220925T230809Z
UID:10000009-1661562000-1661734799@volunteergreatermoncton.com
SUMMARY:PLAY ON Canada's Sports Festival
DESCRIPTION:Canadians have been asking for years for Canada’s largest sports festival to come back and we’re thrilled to be able to bring Play On! back to the streets of Moncton this summer! \nIn order to make this event happen\, we’re looking for friendly\, community-minded people to help out August 27 and 28 at this year’s Play On! Moncton event! \nNo matter your age or experience we have a spot for you!  Follow this link to learn more about the various volunteer roles Play On! Moncton will need to be filled to make this event a resounding success! \nhttps://cdn.sanity.io/…/6bf471cabd1005cf44c3566eb4bd25b… \nhttps://www.playon.ca/events/moncton
URL:https://volunteergreatermoncton.com/event/play-on-canadas-sports-festival/
CATEGORIES:Community
ATTACH;FMTTYPE=image/png:https://volunteergreatermoncton.com/wp-content/uploads/2022/08/playon-en.png
END:VEVENT
BEGIN:VEVENT
DTSTART;TZID=America/Moncton:20220830T120000
DTEND;TZID=America/Moncton:20220830T140000
DTSTAMP:20260422T162304
CREATED:20220922T124213Z
LAST-MODIFIED:20220929T012148Z
UID:10000007-1661860800-1661868000@volunteergreatermoncton.com
SUMMARY:Cheer's Truckload sale : Great food - Great cause
DESCRIPTION:Our friends at Cheers have organized a fundraiser in support of Shelter Movers Greater Moncton.\n\nBuy quality foods at discounted prices while raising funds for survivors of abuse in your community!\n\n\n\nVisit https://www.cheers.truckload.sale/ and place your order before Sunday\, August 28\, at 8:00 pm.\nItems can be picked up at Cheers on Tuesday\, August 30\, between 12:00 pm and 2:00 pm.\n\n\nDon’t forget to follow us on Facebook and share with your friends!\n\nOn behalf of all the volunteers\, staff and clients of Shelter Movers Greater Moncton\, thank you for your support.\n 
URL:https://volunteergreatermoncton.com/event/cheers-truckload-sale-great-food-great-cause/
CATEGORIES:Community
ATTACH;FMTTYPE=image/jpeg:https://volunteergreatermoncton.com/wp-content/uploads/2022/09/cheers.jpg
END:VEVENT
END:VCALENDAR