BEGIN:VCALENDAR
VERSION:2.0
PRODID:-//Volunteer Centre of Southeastern New Brunswick | Centre du Bénévolat du Sud-Est du Nouveau-Brunswick inc. - ECPv6.15.20//NONSGML v1.0//EN
CALSCALE:GREGORIAN
METHOD:PUBLISH
X-WR-CALNAME:Volunteer Centre of Southeastern New Brunswick | Centre du Bénévolat du Sud-Est du Nouveau-Brunswick inc.
X-ORIGINAL-URL:https://volunteergreatermoncton.com
X-WR-CALDESC:Events for Volunteer Centre of Southeastern New Brunswick | Centre du Bénévolat du Sud-Est du Nouveau-Brunswick inc.
REFRESH-INTERVAL;VALUE=DURATION:PT1H
X-Robots-Tag:noindex
X-PUBLISHED-TTL:PT1H
BEGIN:VTIMEZONE
TZID:America/Moncton
BEGIN:DAYLIGHT
TZOFFSETFROM:-0400
TZOFFSETTO:-0300
TZNAME:ADT
DTSTART:20210314T060000
END:DAYLIGHT
BEGIN:STANDARD
TZOFFSETFROM:-0300
TZOFFSETTO:-0400
TZNAME:AST
DTSTART:20211107T050000
END:STANDARD
BEGIN:DAYLIGHT
TZOFFSETFROM:-0400
TZOFFSETTO:-0300
TZNAME:ADT
DTSTART:20220313T060000
END:DAYLIGHT
BEGIN:STANDARD
TZOFFSETFROM:-0300
TZOFFSETTO:-0400
TZNAME:AST
DTSTART:20221106T050000
END:STANDARD
BEGIN:DAYLIGHT
TZOFFSETFROM:-0400
TZOFFSETTO:-0300
TZNAME:ADT
DTSTART:20230312T060000
END:DAYLIGHT
BEGIN:STANDARD
TZOFFSETFROM:-0300
TZOFFSETTO:-0400
TZNAME:AST
DTSTART:20231105T050000
END:STANDARD
END:VTIMEZONE
BEGIN:VEVENT
DTSTART;TZID=America/Moncton:20220908T183000
DTEND;TZID=America/Moncton:20220908T200000
DTSTAMP:20260422T144414
CREATED:20220926T182843Z
LAST-MODIFIED:20220929T015340Z
UID:10000020-1662661800-1662667200@volunteergreatermoncton.com
SUMMARY:Grief and bereavement support group
DESCRIPTION:The next in-person grief and bereavement support group will begin on September 8\, 2022 at Hum-Lew-Sun Lions Club\, 156 Pleasant Street in Moncton from 6.30 pm until 8 pm. The support group will run for seven weeks and will be held each Thursday evening until conclusion. If you are interested in signing up for the group\, please email volunteer@hospicesenb.ca.
URL:https://volunteergreatermoncton.com/event/grief-and-bereavement-support-group/
CATEGORIES:Community
ATTACH;FMTTYPE=image/jpeg:https://volunteergreatermoncton.com/wp-content/uploads/2022/09/grief-1.jpg
END:VEVENT
BEGIN:VEVENT
DTSTART;TZID=America/Moncton:20220917T110000
DTEND;TZID=America/Moncton:20220920T120000
DTSTAMP:20260422T144414
CREATED:20220928T234855Z
LAST-MODIFIED:20220928T235202Z
UID:10000026-1663412400-1663675200@volunteergreatermoncton.com
SUMMARY:Eco360 is organizing a reuse Expo
DESCRIPTION:Eco360 is organizing a reuse Expo where the public will donate things\, and different charities and organizations will attend to pick up items they would like.\nThe event will occur at Moncton coliseum on the 17th\, 18th\, and 20th of September.\nSaturday and Sunday\, it will be from 11 am – 4 pm.\nOn Tuesday from 10 am-noon. (It was supposed to be on Monday but due to the national day of mourning it is going to be on Tuesday instead).\nIf you would like to participate\, kindly let me know which day you will be there.
URL:https://volunteergreatermoncton.com/event/eco360-is-organizing-a-reuse-expo/
CATEGORIES:Community
ATTACH;FMTTYPE=image/png:https://volunteergreatermoncton.com/wp-content/uploads/2022/09/logo-eco360.png
END:VEVENT
BEGIN:VEVENT
DTSTART;TZID=America/Moncton:20220926T103000
DTEND;TZID=America/Moncton:20220926T170000
DTSTAMP:20260422T144414
CREATED:20220921T200617Z
LAST-MODIFIED:20220929T010220Z
UID:10000003-1664188200-1664211600@volunteergreatermoncton.com
SUMMARY:Moncton  8th Recovery Day
DESCRIPTION:The month of September is recognized for Recovery Month and in Moncton\, we chose Monday September 26th to honor many individuals who are working towards their recovery and also offer support to those who are supporting someone in Recovery. \nJoin us for Moncton 8th Recovery Day from 11:30 to 13:30 at Oak Lane Park  on Main Street\, to learn about recovery through stories\, music and art.  Several community organizations will have information to share and will be available to talk.  We will connect with each other\, celebrate journeys\, recognize challenges\, honor lives\, and create hope.   \nMarty Bourque\, known to most as ‘Marty B’  will be our Host\, along with other musicians\, and there will be a free BBQ.
URL:https://volunteergreatermoncton.com/event/moncton-8th-recovery-day/
CATEGORIES:Community
ATTACH;FMTTYPE=image/jpeg:https://volunteergreatermoncton.com/wp-content/uploads/2022/09/recovery.jpg
END:VEVENT
BEGIN:VEVENT
DTSTART;TZID=America/Moncton:20220930T050000
DTEND;TZID=America/Moncton:20220930T230000
DTSTAMP:20260422T144414
CREATED:20220927T155254Z
LAST-MODIFIED:20221124T034035Z
UID:10000021-1664514000-1664578800@volunteergreatermoncton.com
SUMMARY:National Day for Truth and Reconciliation - Canada.ca
DESCRIPTION:Both the National Day for Truth and Reconciliation and Orange Shirt Day take place on September 30th. Orange Shirt Day is an Indigenous-led grassroots commemorative day intended to raise awareness of the individual\, family and community inter-generational impacts of residential schools\, and to promote the concept of “Every Child Matters”. \nhttps://www.canada.ca/en/canadian-heritage/campaigns/national-day-truth-reconciliation.html \nFind Government of Canada programs and services for First Nations\, Inuit and Métis. Learn more about Indigenous peoples and communities. Click here \n\nJourney Towards Truth and Reconciliation (PDF)\nDocument produced by the Truth and Reconciliation working group\, an initiative from Volunteer Canada. Our executive director\, Annette Vautour\, was part of the Council from Volunteer Canada that worked on this initiative. \n\nNational Truth and Reconciliation Day was honored and celebrated within the three Municipalities of Dieppe/Moncton/ Riverview that we serve.\n \nNational Day For Truth And Reconciliation \nFriday marks the second annual National Day for Truth and Reconciliation across Canada. The federal statutory … \nwww.919thebend.ca \nhttps://www.moncton.ca/node/796 \nhttps://www.cbc.ca/news/canada/new-brunswick/moncton-municipal-truth-reconciliation-holiday-1.6167683 \n \nMoncton makes Truth and Reconciliation day a holiday for city staff | CBC News \nNew Brunswick’s largest city is giving its employees a paid holiday to observe Canada’s first National Day for Truth and Reconciliation later this month\, joining other communities in the province. \nhttps://nben.ca/en/get-involved/events/all-events/general-nben-events/webinars/516-truth-and-reconciliation-week-2022.html \nTruth and Reconciliation Week 2022-Webinars – nben.ca \nRegister now to participate in Truth and Reconciliation Week 2022. This year\, our theme is “Remembering the Children”. Join us as we memorialize the children lost to the residential school system and honour Survivors and their families. \nnben.ca \nhttps://globalnews.ca/news/9149463/new-brunswick-truth-reconciliation-day/ \n \nRoyal Canadian Mint commemorates National Day for Truth and Reconciliation \nThe Royal Canadian Mint unveiled a new Keepsake ahead of the National Day for Truth and Reconciliation on Thursday. The face of the keepsake reads “Every Child Matters” surrounded by small footprints facing counter-clockwise. Survivor Eugene Arcand says to him\, the feet represent the heartache caused by Residential Schools adding that “when … \nglobalnews.ca \nTown of Riverview and City of Moncton T & R Events – September 30\, 2022. \nhttps://www.townofriverview.ca/news/town-observes-national-day-for-truth-and-reconciliation-sept-30#:~:text=On%20September%2030%2C%202021%2C%20the\,reflection%20on%20the%20Indigenous%20experience. \n \nTown observes National Day for Truth and Reconciliation\, Sept. 30 \nOn September 30\, 2021\, the Town of Riverview will observe Canada’s first National Day for Truth and Reconciliation by closing municipal offices and most non-essential services. As an employer\, we are encouraging non-Indigenous staff to make this day about learning and reflection on the Indigenous experience. We are also providing additional training and professional \nwww.townofriverview.ca \nhttps://www.dieppe.ca/en/vivre-ici/journ-e-nationale-de-la-v-rit-et-de-la-r-conciliation.aspx \n \nNational Day for Truth and Reconciliation – City of Dieppe \nThe National Day for Truth and Reconciliation is an opportunity for employees and residents of the municipality to honour residential school survivors\, who number in the thousands. \nwww.dieppe.ca
URL:https://volunteergreatermoncton.com/event/national-day-for-truth-and-reconciliation-canada-ca/
CATEGORIES:Community
ATTACH;FMTTYPE=image/jpeg:https://volunteergreatermoncton.com/wp-content/uploads/2022/09/truth-and-reconciliation.jpg
END:VEVENT
END:VCALENDAR