BEGIN:VCALENDAR
VERSION:2.0
PRODID:-//Volunteer Centre of Southeastern New Brunswick | Centre du Bénévolat du Sud-Est du Nouveau-Brunswick inc. - ECPv6.15.20//NONSGML v1.0//EN
CALSCALE:GREGORIAN
METHOD:PUBLISH
X-ORIGINAL-URL:https://volunteergreatermoncton.com
X-WR-CALDESC:Events for Volunteer Centre of Southeastern New Brunswick | Centre du Bénévolat du Sud-Est du Nouveau-Brunswick inc.
REFRESH-INTERVAL;VALUE=DURATION:PT1H
X-Robots-Tag:noindex
X-PUBLISHED-TTL:PT1H
BEGIN:VTIMEZONE
TZID:America/Moncton
BEGIN:DAYLIGHT
TZOFFSETFROM:-0400
TZOFFSETTO:-0300
TZNAME:ADT
DTSTART:20220313T060000
END:DAYLIGHT
BEGIN:STANDARD
TZOFFSETFROM:-0300
TZOFFSETTO:-0400
TZNAME:AST
DTSTART:20221106T050000
END:STANDARD
BEGIN:DAYLIGHT
TZOFFSETFROM:-0400
TZOFFSETTO:-0300
TZNAME:ADT
DTSTART:20230312T060000
END:DAYLIGHT
BEGIN:STANDARD
TZOFFSETFROM:-0300
TZOFFSETTO:-0400
TZNAME:AST
DTSTART:20231105T050000
END:STANDARD
BEGIN:DAYLIGHT
TZOFFSETFROM:-0400
TZOFFSETTO:-0300
TZNAME:ADT
DTSTART:20240310T060000
END:DAYLIGHT
BEGIN:STANDARD
TZOFFSETFROM:-0300
TZOFFSETTO:-0400
TZNAME:AST
DTSTART:20241103T050000
END:STANDARD
END:VTIMEZONE
BEGIN:VEVENT
DTSTART;TZID=America/Moncton:20230126T130000
DTEND;TZID=America/Moncton:20230126T150000
DTSTAMP:20260422T083914
CREATED:20230126T014951Z
LAST-MODIFIED:20230126T015816Z
UID:10000073-1674738000-1674745200@volunteergreatermoncton.com
SUMMARY:CONNECT WITH NEW FRIENDS  AT OUR VIRTUAL DROP-IN CENTRE
DESCRIPTION:New Date!  Thursday\, January 26th @ 1:00 pm. \nUrban Rural Rides is pleased to announce that our ‘Virtual Drop In Centre’ is now available to participants in Westmorland and Albert Counties.  We started our pilot project in partnership with the residents at Caledonia Place in Hillsborough and have been having great conversations and even hosted a Virtual Christmas Party!  We are now excited to invite you to our next meeting being held on Thursday\, January 26th at 1:00 pm – {see virtual link below}.  Kirstin Shortt\, Virtual Moderator will be our next presenter and will be sharing stories and photos of her trip to Ephesus.  We will be hosting our virtual meetings once a month and will be inviting Guest Speakers relating to topics of interest from the participants.  Our ‘Virtual Drop In Centre’ is a perfect time to connect with new friends especially in the rural community.   Bring a coffee and join us at our next meeting! \n\n\n\nEphesus Trip Zoom Meeting\n\n\n\nThursday 26 Jan 2023 ⋅ 1pm – 3pm (Atlantic Time – Halifax) \nKirstin Shortt is inviting you to a scheduled Zoom meeting. \nJoin Zoom Meeting\nhttps://us06web.zoom.us/j/82211761568?pwd=SThxRi9LbkgrUUcxaXIxODlGZWgzQT09 \n\n\n\nMeeting ID: 822 1176 1568\nPasscode: 744748\nFind your local number: https://us06web.zoom.us/u/kcA2yOyZ6M\nLocation\n\n\n\nView map \n\n\n\nOrganiser\n\n\nkshortturbanruralrides@gmail.com\n\n\n  \nKirstin Shortt\, Chairperson\, Urban Rural Rides \nDebbi LeBlanc\, Manager\, Urban Rides
URL:https://volunteergreatermoncton.com/event/connect-with-new-friends-at-our-virtual-drop-in-centre/
CATEGORIES:Community
ATTACH;FMTTYPE=image/png:https://volunteergreatermoncton.com/wp-content/uploads/2023/01/drop-in.png
END:VEVENT
END:VCALENDAR