BEGIN:VCALENDAR
VERSION:2.0
PRODID:-//Volunteer Centre of Southeastern New Brunswick | Centre du Bénévolat du Sud-Est du Nouveau-Brunswick inc. - ECPv6.15.20//NONSGML v1.0//EN
CALSCALE:GREGORIAN
METHOD:PUBLISH
X-WR-CALNAME:Volunteer Centre of Southeastern New Brunswick | Centre du Bénévolat du Sud-Est du Nouveau-Brunswick inc.
X-ORIGINAL-URL:https://volunteergreatermoncton.com
X-WR-CALDESC:Events for Volunteer Centre of Southeastern New Brunswick | Centre du Bénévolat du Sud-Est du Nouveau-Brunswick inc.
REFRESH-INTERVAL;VALUE=DURATION:PT1H
X-Robots-Tag:noindex
X-PUBLISHED-TTL:PT1H
BEGIN:VTIMEZONE
TZID:America/Moncton
BEGIN:DAYLIGHT
TZOFFSETFROM:-0400
TZOFFSETTO:-0300
TZNAME:ADT
DTSTART:20220313T060000
END:DAYLIGHT
BEGIN:STANDARD
TZOFFSETFROM:-0300
TZOFFSETTO:-0400
TZNAME:AST
DTSTART:20221106T050000
END:STANDARD
BEGIN:DAYLIGHT
TZOFFSETFROM:-0400
TZOFFSETTO:-0300
TZNAME:ADT
DTSTART:20230312T060000
END:DAYLIGHT
BEGIN:STANDARD
TZOFFSETFROM:-0300
TZOFFSETTO:-0400
TZNAME:AST
DTSTART:20231105T050000
END:STANDARD
BEGIN:DAYLIGHT
TZOFFSETFROM:-0400
TZOFFSETTO:-0300
TZNAME:ADT
DTSTART:20240310T060000
END:DAYLIGHT
BEGIN:STANDARD
TZOFFSETFROM:-0300
TZOFFSETTO:-0400
TZNAME:AST
DTSTART:20241103T050000
END:STANDARD
END:VTIMEZONE
BEGIN:VEVENT
DTSTART;TZID=America/Moncton:20230911T113000
DTEND;TZID=America/Moncton:20230911T133000
DTSTAMP:20260419T194727
CREATED:20230911T181621Z
LAST-MODIFIED:20230911T181632Z
UID:10000142-1694431800-1694439000@volunteergreatermoncton.com
SUMMARY:FREE community BBQ and gathering
DESCRIPTION:Monday September 11th from 11:30 to 1:30 we are celebrating World Suicide Prevention Day with a FREE  community BBQ and gathering in front of Moncton City Hall. \nMurielle Doucet she.her.elle\nAddictions and Mental Health Prevention Coordinator/ Coordonatrice en prévention de la santé mentale\, et traitement des dépendances\nHorizon Health Network/ Réseau santé Horizon \n506.377.5821 cell- texting welcomed\nMurielle.Doucet2@horizonnb.ca
URL:https://volunteergreatermoncton.com/event/free-community-bbq-and-gathering/
CATEGORIES:Community
ATTACH;FMTTYPE=image/jpeg:https://volunteergreatermoncton.com/wp-content/uploads/2023/09/bbq-en.jpg
END:VEVENT
BEGIN:VEVENT
DTSTART;VALUE=DATE:20230918
DTEND;VALUE=DATE:20230920
DTSTAMP:20260419T194727
CREATED:20230917T152537Z
LAST-MODIFIED:20230917T152659Z
UID:10000148-1694995200-1695167999@volunteergreatermoncton.com
SUMMARY:Book and puzzle sale
DESCRIPTION:NEW LOCATION – room 2006 (L’Entre-deux near the cafeteria)\nMonday Sept. 18 (8:30 am to 4 pm) and Tuesday Sept. 19 (8:30 am to 3 pm)\nProfits go to the purchase of equipment for the comfort and well-being of patients.
URL:https://volunteergreatermoncton.com/event/book-and-puzzle-sale/
CATEGORIES:Community
ATTACH;FMTTYPE=image/jpeg:https://volunteergreatermoncton.com/wp-content/uploads/2023/09/book.jpeg
END:VEVENT
BEGIN:VEVENT
DTSTART;TZID=America/Moncton:20230919T120000
DTEND;TZID=America/Moncton:20230919T130000
DTSTAMP:20260419T194727
CREATED:20230917T151441Z
LAST-MODIFIED:20230917T151734Z
UID:10000146-1695124800-1695128400@volunteergreatermoncton.com
SUMMARY:Grieving the Death of a Pet
DESCRIPTION:In this second session of the Grief and Bereavement Literacy ECHO Series\, Jennifer Dacre\, Palliative & Bereavement Services Manager at Chilliwack Hospice\, will speak to Grieving the Death of a Pet. This session will include participant interaction and is for anyone interested in increasing their own knowledge about grief and bereavement. \nDate: Tuesday\, September 19\, 2023\nTime: 12pm-1pm (PST)\nRegister: https://loom.ly/Sd7uWtc
URL:https://volunteergreatermoncton.com/event/grieving-the-death-of-a-pet/
CATEGORIES:Community
ATTACH;FMTTYPE=image/png:https://volunteergreatermoncton.com/wp-content/uploads/2023/09/Grief.png
END:VEVENT
BEGIN:VEVENT
DTSTART;TZID=America/Moncton:20230921T100000
DTEND;TZID=America/Moncton:20230921T120000
DTSTAMP:20260419T194727
CREATED:20230917T150241Z
LAST-MODIFIED:20230917T150641Z
UID:10000144-1695290400-1695297600@volunteergreatermoncton.com
SUMMARY:You’re invited to Community Coffee Time!
DESCRIPTION:Members from the Codiac Regional RCMP would like to invite residents to the Brix Experience coffee shop (245 Saint George St.) between 10 a.m. and noon on Sept. 21 to discuss community safety and enjoy a coffee with their members and other first responders.
URL:https://volunteergreatermoncton.com/event/youre-invited-to-community-coffee-time/
CATEGORIES:Community
ATTACH;FMTTYPE=image/jpeg:https://volunteergreatermoncton.com/wp-content/uploads/2023/09/caffe-RCMP.jpg
END:VEVENT
BEGIN:VEVENT
DTSTART;VALUE=DATE:20230925
DTEND;VALUE=DATE:20231001
DTSTAMP:20260419T194727
CREATED:20231002T012936Z
LAST-MODIFIED:20231002T012936Z
UID:10000150-1695600000-1696118399@volunteergreatermoncton.com
SUMMARY:Truth and Reconciliation Week 2023 - NCTR
DESCRIPTION:September 25 – 30\, 2023 Reconciliation Starts with Education Learning and commemorating the truth of our history from First Nations\, Métis\, and Inuit knowledge keepers is an important part on the path of reconciliation. Interested in learning more? During Truth and Reconciliation Week 2023 we invite you to join our daily lunch and learns for \nnctr.ca\nhttps://nctr.ca/education/coming-soon-truth-and-reconciliation-week-2023/
URL:https://volunteergreatermoncton.com/event/truth-and-reconciliation-week-2023-nctr/
CATEGORIES:Community
ATTACH;FMTTYPE=image/jpeg:https://volunteergreatermoncton.com/wp-content/uploads/2023/10/truth.jpg
END:VEVENT
END:VCALENDAR