BEGIN:VCALENDAR
VERSION:2.0
PRODID:-//Volunteer Centre of Southeastern New Brunswick | Centre du Bénévolat du Sud-Est du Nouveau-Brunswick inc. - ECPv6.15.20//NONSGML v1.0//EN
CALSCALE:GREGORIAN
METHOD:PUBLISH
X-WR-CALNAME:Volunteer Centre of Southeastern New Brunswick | Centre du Bénévolat du Sud-Est du Nouveau-Brunswick inc.
X-ORIGINAL-URL:https://volunteergreatermoncton.com
X-WR-CALDESC:Events for Volunteer Centre of Southeastern New Brunswick | Centre du Bénévolat du Sud-Est du Nouveau-Brunswick inc.
REFRESH-INTERVAL;VALUE=DURATION:PT1H
X-Robots-Tag:noindex
X-PUBLISHED-TTL:PT1H
BEGIN:VTIMEZONE
TZID:America/Moncton
BEGIN:DAYLIGHT
TZOFFSETFROM:-0400
TZOFFSETTO:-0300
TZNAME:ADT
DTSTART:20220313T060000
END:DAYLIGHT
BEGIN:STANDARD
TZOFFSETFROM:-0300
TZOFFSETTO:-0400
TZNAME:AST
DTSTART:20221106T050000
END:STANDARD
BEGIN:DAYLIGHT
TZOFFSETFROM:-0400
TZOFFSETTO:-0300
TZNAME:ADT
DTSTART:20230312T060000
END:DAYLIGHT
BEGIN:STANDARD
TZOFFSETFROM:-0300
TZOFFSETTO:-0400
TZNAME:AST
DTSTART:20231105T050000
END:STANDARD
BEGIN:DAYLIGHT
TZOFFSETFROM:-0400
TZOFFSETTO:-0300
TZNAME:ADT
DTSTART:20240310T060000
END:DAYLIGHT
BEGIN:STANDARD
TZOFFSETFROM:-0300
TZOFFSETTO:-0400
TZNAME:AST
DTSTART:20241103T050000
END:STANDARD
END:VTIMEZONE
BEGIN:VEVENT
DTSTART;TZID=America/Moncton:20231201T170000
DTEND;TZID=America/Moncton:20231201T200000
DTSTAMP:20260419T134822
CREATED:20231124T220000Z
LAST-MODIFIED:20231124T220050Z
UID:10000160-1701450000-1701460800@volunteergreatermoncton.com
SUMMARY:BGC Riverview Tree Lot fundraiser
DESCRIPTION:It’s that wonderful time again!  The holiday season is fast approaching and with it\, we are excited to announce our annual Tree Lot fundraiser.   \nOur festive lot will be open to the public at 5:pm on Friday\, December 1st.  On Saturday\, December 2nd\, we are excited to welcome back Scotiabank for their generous Matching Day.  All sales\, up to $3000\, will be matched by Scotiabank.\nJoin us for fun and make new traditions with your family.  Call Sara for more details at 506-387-7070 x 3.  We hope to see you there\n(Volunteer opportunities are still available!)
URL:https://volunteergreatermoncton.com/event/bgc-riverview-tree-lot-fundraiser/
CATEGORIES:Community
ATTACH;FMTTYPE=image/jpeg:https://volunteergreatermoncton.com/wp-content/uploads/2023/11/BGC-tree-short.jpg
END:VEVENT
END:VCALENDAR