BEGIN:VCALENDAR
VERSION:2.0
PRODID:-//Volunteer Centre of Southeastern New Brunswick | Centre du Bénévolat du Sud-Est du Nouveau-Brunswick inc. - ECPv6.15.20//NONSGML v1.0//EN
CALSCALE:GREGORIAN
METHOD:PUBLISH
X-ORIGINAL-URL:https://volunteergreatermoncton.com
X-WR-CALDESC:Events for Volunteer Centre of Southeastern New Brunswick | Centre du Bénévolat du Sud-Est du Nouveau-Brunswick inc.
REFRESH-INTERVAL;VALUE=DURATION:PT1H
X-Robots-Tag:noindex
X-PUBLISHED-TTL:PT1H
BEGIN:VTIMEZONE
TZID:America/Moncton
BEGIN:DAYLIGHT
TZOFFSETFROM:-0400
TZOFFSETTO:-0300
TZNAME:ADT
DTSTART:20230312T060000
END:DAYLIGHT
BEGIN:STANDARD
TZOFFSETFROM:-0300
TZOFFSETTO:-0400
TZNAME:AST
DTSTART:20231105T050000
END:STANDARD
BEGIN:DAYLIGHT
TZOFFSETFROM:-0400
TZOFFSETTO:-0300
TZNAME:ADT
DTSTART:20240310T060000
END:DAYLIGHT
BEGIN:STANDARD
TZOFFSETFROM:-0300
TZOFFSETTO:-0400
TZNAME:AST
DTSTART:20241103T050000
END:STANDARD
BEGIN:DAYLIGHT
TZOFFSETFROM:-0400
TZOFFSETTO:-0300
TZNAME:ADT
DTSTART:20250309T060000
END:DAYLIGHT
BEGIN:STANDARD
TZOFFSETFROM:-0300
TZOFFSETTO:-0400
TZNAME:AST
DTSTART:20251102T050000
END:STANDARD
END:VTIMEZONE
BEGIN:VEVENT
DTSTART;TZID=America/Moncton:20240110T040000
DTEND;TZID=America/Moncton:20240110T040000
DTSTAMP:20260419T122204
CREATED:20240107T135706Z
LAST-MODIFIED:20240107T141929Z
UID:10000164-1704859200-1704859200@volunteergreatermoncton.com
SUMMARY:CMHA of NB - Living Life to the Full
DESCRIPTION:Living Life to the Full offers you enjoyable and interactive courses that will help you understand your feelings\, thoughts and behaviors and what to do about them! \nFor more information & registration contact: Luc Couturier 506-500-0356 or luc.couturier@cmhanb.ca
URL:https://volunteergreatermoncton.com/event/cmha-of-nb-living-life-to-the-full/
CATEGORIES:Community
ATTACH;FMTTYPE=image/jpeg:https://volunteergreatermoncton.com/wp-content/uploads/2024/01/CMHA-life-title-1.jpg
END:VEVENT
BEGIN:VEVENT
DTSTART;TZID=America/Moncton:20240115T133000
DTEND;TZID=America/Moncton:20240115T153000
DTSTAMP:20260419T122204
CREATED:20240111T142609Z
LAST-MODIFIED:20240111T143038Z
UID:10000174-1705325400-1705332600@volunteergreatermoncton.com
SUMMARY:The Canadian Mental Health Association of NB is offering a free therapeutic group
DESCRIPTION:The Canadian Mental Health Association of NB is offering a free therapeutic group this winter in Shediac for individuals who have been exposed to trauma. For more information or register\, contact me at Lauren Whiteway at lauren.whiteway@cmhanb-acsmnb.ca or (506) 389-6778.  \nLauren Whiteway (she/her/elle)\nCommunity Program Coordinator / Coordinatrice En Programme Communautaire\nCMHA of NB/ACSM du N.-B.
URL:https://volunteergreatermoncton.com/event/19361/
CATEGORIES:Community
ATTACH;FMTTYPE=image/jpeg:https://volunteergreatermoncton.com/wp-content/uploads/2024/01/Trauma-r.jpg
END:VEVENT
BEGIN:VEVENT
DTSTART;TZID=America/Moncton:20240117T080000
DTEND;TZID=America/Moncton:20240117T130000
DTSTAMP:20260419T122204
CREATED:20240112T132242Z
LAST-MODIFIED:20240112T133711Z
UID:10000176-1705478400-1705496400@volunteergreatermoncton.com
SUMMARY:AGM Invitation - ENSEMBLE
DESCRIPTION:Joline LeBlanc\, President\, and the Board of Directors invite you to our\nAnnual General Meeting.  \n2022-2023 ANNUAL GENERAL MEETING\nJanuary 17\, 2024\n1 :00 pm\nVirtual\nYou’re invited to join a Microsoft Teams meeting  \nENSEMBLE AGM 2022-23\nJoin on your computer or mobile app  \nNote:  If people can’t access the link below please e-mail Chantal Bourque at cbourque@ensemblegm.ca
URL:https://volunteergreatermoncton.com/event/agm-invitation-ensemble/
CATEGORIES:Community
ATTACH;FMTTYPE=image/jpeg:https://volunteergreatermoncton.com/wp-content/uploads/2019/07/Ensemble-logo.jpg
END:VEVENT
END:VCALENDAR