BEGIN:VCALENDAR
VERSION:2.0
PRODID:-//Volunteer Centre of Southeastern New Brunswick | Centre du Bénévolat du Sud-Est du Nouveau-Brunswick inc. - ECPv6.15.20//NONSGML v1.0//EN
CALSCALE:GREGORIAN
METHOD:PUBLISH
X-ORIGINAL-URL:https://volunteergreatermoncton.com
X-WR-CALDESC:Events for Volunteer Centre of Southeastern New Brunswick | Centre du Bénévolat du Sud-Est du Nouveau-Brunswick inc.
REFRESH-INTERVAL;VALUE=DURATION:PT1H
X-Robots-Tag:noindex
X-PUBLISHED-TTL:PT1H
BEGIN:VTIMEZONE
TZID:America/Moncton
BEGIN:DAYLIGHT
TZOFFSETFROM:-0400
TZOFFSETTO:-0300
TZNAME:ADT
DTSTART:20210314T060000
END:DAYLIGHT
BEGIN:STANDARD
TZOFFSETFROM:-0300
TZOFFSETTO:-0400
TZNAME:AST
DTSTART:20211107T050000
END:STANDARD
BEGIN:DAYLIGHT
TZOFFSETFROM:-0400
TZOFFSETTO:-0300
TZNAME:ADT
DTSTART:20220313T060000
END:DAYLIGHT
BEGIN:STANDARD
TZOFFSETFROM:-0300
TZOFFSETTO:-0400
TZNAME:AST
DTSTART:20221106T050000
END:STANDARD
BEGIN:DAYLIGHT
TZOFFSETFROM:-0400
TZOFFSETTO:-0300
TZNAME:ADT
DTSTART:20230312T060000
END:DAYLIGHT
BEGIN:STANDARD
TZOFFSETFROM:-0300
TZOFFSETTO:-0400
TZNAME:AST
DTSTART:20231105T050000
END:STANDARD
END:VTIMEZONE
BEGIN:VEVENT
DTSTART;VALUE=DATE:20220528
DTEND;VALUE=DATE:20220530
DTSTAMP:20260422T213146
CREATED:20221121T215618Z
LAST-MODIFIED:20221121T215618Z
UID:10000064-1653696000-1653868799@volunteergreatermoncton.com
SUMMARY:Drive Electric Atlantic\, a Project of the New Brunswick Lung Association
DESCRIPTION:We here at the New Brunswick Lung Association have an ongoing project which is called Drive Electric Atlantic\, our goal with this project is to promote the health and environmental benefits of electric vehicles! We have a test-drive event coming up this weekend (May 28th/29th) in Dieppe\, in which we allow people to book a test-drive with a variety of electric vehicles\, to encourage people to go green. These events need multiple volunteers for various roles\, we were wondering if you would have some volunteer members interested with being involved in our event? Anybody French or English are welcome\, as long as they have a valid full driver’s license and are at least 19 years old. \nThe event is Saturday May 28th and Sunday May 29th from 10am-4pm at the Arthur J Leblanc arena\, and there are multiple volunteering roles needing to be filled such as “Test-drive guide”\, “Registration” and “Traffic control”. \nThe survey must also be filled in order to volunteer: https://www.surveymonkey.com/r/NQLNX3Q \nIf you have any questions\, feel free to reply to this email\, thank you. \nMatthew Tokos \nDrive Electric Atlantic\nRoulez Électrique Atlantique\nA Project of the New Brunswick Lung Association\nUn project de l’association pulmonaire-Nouveau-Brunswick  \nPhone 506-455-8961 ext 115\nWeb www.driveelectricatlantic.ca\n65 rue Brunswick Street\, Fredericton\, NB
URL:https://volunteergreatermoncton.com/event/drive-electric-atlantic-a-project-of-the-new-brunswick-lung-association/
CATEGORIES:Community
ATTACH;FMTTYPE=image/png:https://volunteergreatermoncton.com/wp-content/uploads/2022/11/Drive-Electric-Atlantic-Colour.png
END:VEVENT
END:VCALENDAR