BEGIN:VCALENDAR
VERSION:2.0
PRODID:-//Volunteer Centre of Southeastern New Brunswick | Centre du Bénévolat du Sud-Est du Nouveau-Brunswick inc. - ECPv6.15.20//NONSGML v1.0//EN
CALSCALE:GREGORIAN
METHOD:PUBLISH
X-WR-CALNAME:Volunteer Centre of Southeastern New Brunswick | Centre du Bénévolat du Sud-Est du Nouveau-Brunswick inc.
X-ORIGINAL-URL:https://volunteergreatermoncton.com
X-WR-CALDESC:Events for Volunteer Centre of Southeastern New Brunswick | Centre du Bénévolat du Sud-Est du Nouveau-Brunswick inc.
REFRESH-INTERVAL;VALUE=DURATION:PT1H
X-Robots-Tag:noindex
X-PUBLISHED-TTL:PT1H
BEGIN:VTIMEZONE
TZID:America/Moncton
BEGIN:DAYLIGHT
TZOFFSETFROM:-0400
TZOFFSETTO:-0300
TZNAME:ADT
DTSTART:20210314T060000
END:DAYLIGHT
BEGIN:STANDARD
TZOFFSETFROM:-0300
TZOFFSETTO:-0400
TZNAME:AST
DTSTART:20211107T050000
END:STANDARD
BEGIN:DAYLIGHT
TZOFFSETFROM:-0400
TZOFFSETTO:-0300
TZNAME:ADT
DTSTART:20220313T060000
END:DAYLIGHT
BEGIN:STANDARD
TZOFFSETFROM:-0300
TZOFFSETTO:-0400
TZNAME:AST
DTSTART:20221106T050000
END:STANDARD
BEGIN:DAYLIGHT
TZOFFSETFROM:-0400
TZOFFSETTO:-0300
TZNAME:ADT
DTSTART:20230312T060000
END:DAYLIGHT
BEGIN:STANDARD
TZOFFSETFROM:-0300
TZOFFSETTO:-0400
TZNAME:AST
DTSTART:20231105T050000
END:STANDARD
END:VTIMEZONE
BEGIN:VEVENT
DTSTART;TZID=America/Moncton:20220702T080000
DTEND;TZID=America/Moncton:20220702T170000
DTSTAMP:20260422T195206
CREATED:20221205T133313Z
LAST-MODIFIED:20221205T133643Z
UID:10000070-1656748800-1656781200@volunteergreatermoncton.com
SUMMARY:Raffle!
DESCRIPTION:At Crossroads\, we have launched a new raffle for the Rebuild of our Blossom House! Right now\, we sell tickets with wonderful prizes! Who wouldn’t like to win a Hot tub! 😊.\nI am writing to you today to ask for your help at United Way! \nI was wondering if you could circulate our poster in your network. By sharing our poster with as many people as possible\, we hope to reach our goal of $40\,000 by selling our 2\,000 tickets!   \nTickets can be purchased online at the following link:\nhttps://crossroads-for-women-101309.square.site/ \nDo you think you can help us in our goal?\nThe draw is scheduled for July 2.
URL:https://volunteergreatermoncton.com/event/raffle/
CATEGORIES:Community
ATTACH;FMTTYPE=image/png:https://volunteergreatermoncton.com/wp-content/uploads/2022/06/crossroad-raffle-800px.png
END:VEVENT
END:VCALENDAR