BEGIN:VCALENDAR
VERSION:2.0
PRODID:-//Volunteer Centre of Southeastern New Brunswick | Centre du Bénévolat du Sud-Est du Nouveau-Brunswick inc. - ECPv6.15.20//NONSGML v1.0//EN
CALSCALE:GREGORIAN
METHOD:PUBLISH
X-WR-CALNAME:Volunteer Centre of Southeastern New Brunswick | Centre du Bénévolat du Sud-Est du Nouveau-Brunswick inc.
X-ORIGINAL-URL:https://volunteergreatermoncton.com
X-WR-CALDESC:Events for Volunteer Centre of Southeastern New Brunswick | Centre du Bénévolat du Sud-Est du Nouveau-Brunswick inc.
REFRESH-INTERVAL;VALUE=DURATION:PT1H
X-Robots-Tag:noindex
X-PUBLISHED-TTL:PT1H
BEGIN:VTIMEZONE
TZID:America/Moncton
BEGIN:DAYLIGHT
TZOFFSETFROM:-0400
TZOFFSETTO:-0300
TZNAME:ADT
DTSTART:20210314T060000
END:DAYLIGHT
BEGIN:STANDARD
TZOFFSETFROM:-0300
TZOFFSETTO:-0400
TZNAME:AST
DTSTART:20211107T050000
END:STANDARD
BEGIN:DAYLIGHT
TZOFFSETFROM:-0400
TZOFFSETTO:-0300
TZNAME:ADT
DTSTART:20220313T060000
END:DAYLIGHT
BEGIN:STANDARD
TZOFFSETFROM:-0300
TZOFFSETTO:-0400
TZNAME:AST
DTSTART:20221106T050000
END:STANDARD
BEGIN:DAYLIGHT
TZOFFSETFROM:-0400
TZOFFSETTO:-0300
TZNAME:ADT
DTSTART:20230312T060000
END:DAYLIGHT
BEGIN:STANDARD
TZOFFSETFROM:-0300
TZOFFSETTO:-0400
TZNAME:AST
DTSTART:20231105T050000
END:STANDARD
END:VTIMEZONE
BEGIN:VEVENT
DTSTART;TZID=America/Moncton:20220720T130000
DTEND;TZID=America/Moncton:20220720T130000
DTSTAMP:20260422T195207
CREATED:20220922T003941Z
LAST-MODIFIED:20220925T231537Z
UID:10000005-1658322000-1658322000@volunteergreatermoncton.com
SUMMARY:SALVUS ANNOUNCES NEW MOBILE HEALTH CLINIC AND HEALTH CANADA FUNDING
DESCRIPTION:Salvus\, in partnership with Health Canada\, Medavie Blue Cross\, Saint John Human Development Council\, and the Province of New Brunswick\, is excited to formally announce the launch of their mobile health clinic and federal funding through Health Canada’s Substance Use and Addiction Program.\nA formal announcement is going to be held on Wednesday\, July 20th at 1:00PM and remarks will be made by Honourable Ginette Petitpas Taylor\, Mayor Dawn Arnold\, Richard Losier (Medavie)\, and Salvus Clinic.\nPlease join us as we celebrate the launch of the province’s only mobile health clinic. \nFor media inquiries\,\nMelissa Baxter\nExecutive Director\, Salvus Clinic\n506-384-7283 x4\nmelissa.baxter@horizonnb.ca
URL:https://volunteergreatermoncton.com/event/salvus-announces-new-mobile-health-clinic-and-health-canada-funding/
CATEGORIES:Community
ATTACH;FMTTYPE=image/jpeg:https://volunteergreatermoncton.com/wp-content/uploads/2022/07/Salvus.jpg
END:VEVENT
END:VCALENDAR