BEGIN:VCALENDAR
VERSION:2.0
PRODID:-//Volunteer Centre of Southeastern New Brunswick | Centre du Bénévolat du Sud-Est du Nouveau-Brunswick inc. - ECPv6.15.20//NONSGML v1.0//EN
CALSCALE:GREGORIAN
METHOD:PUBLISH
X-ORIGINAL-URL:https://volunteergreatermoncton.com
X-WR-CALDESC:Events for Volunteer Centre of Southeastern New Brunswick | Centre du Bénévolat du Sud-Est du Nouveau-Brunswick inc.
REFRESH-INTERVAL;VALUE=DURATION:PT1H
X-Robots-Tag:noindex
X-PUBLISHED-TTL:PT1H
BEGIN:VTIMEZONE
TZID:America/Moncton
BEGIN:DAYLIGHT
TZOFFSETFROM:-0400
TZOFFSETTO:-0300
TZNAME:ADT
DTSTART:20210314T060000
END:DAYLIGHT
BEGIN:STANDARD
TZOFFSETFROM:-0300
TZOFFSETTO:-0400
TZNAME:AST
DTSTART:20211107T050000
END:STANDARD
BEGIN:DAYLIGHT
TZOFFSETFROM:-0400
TZOFFSETTO:-0300
TZNAME:ADT
DTSTART:20220313T060000
END:DAYLIGHT
BEGIN:STANDARD
TZOFFSETFROM:-0300
TZOFFSETTO:-0400
TZNAME:AST
DTSTART:20221106T050000
END:STANDARD
BEGIN:DAYLIGHT
TZOFFSETFROM:-0400
TZOFFSETTO:-0300
TZNAME:ADT
DTSTART:20230312T060000
END:DAYLIGHT
BEGIN:STANDARD
TZOFFSETFROM:-0300
TZOFFSETTO:-0400
TZNAME:AST
DTSTART:20231105T050000
END:STANDARD
END:VTIMEZONE
BEGIN:VEVENT
DTSTART;VALUE=DATE:20220827
DTEND;VALUE=DATE:20220830
DTSTAMP:20260422T195504
CREATED:20220922T185544Z
LAST-MODIFIED:20220925T230809Z
UID:10000009-1661562000-1661734799@volunteergreatermoncton.com
SUMMARY:PLAY ON Canada's Sports Festival
DESCRIPTION:Canadians have been asking for years for Canada’s largest sports festival to come back and we’re thrilled to be able to bring Play On! back to the streets of Moncton this summer! \nIn order to make this event happen\, we’re looking for friendly\, community-minded people to help out August 27 and 28 at this year’s Play On! Moncton event! \nNo matter your age or experience we have a spot for you!  Follow this link to learn more about the various volunteer roles Play On! Moncton will need to be filled to make this event a resounding success! \nhttps://cdn.sanity.io/…/6bf471cabd1005cf44c3566eb4bd25b… \nhttps://www.playon.ca/events/moncton
URL:https://volunteergreatermoncton.com/event/play-on-canadas-sports-festival/
CATEGORIES:Community
ATTACH;FMTTYPE=image/png:https://volunteergreatermoncton.com/wp-content/uploads/2022/08/playon-en.png
END:VEVENT
END:VCALENDAR