BEGIN:VCALENDAR
VERSION:2.0
PRODID:-//Volunteer Centre of Southeastern New Brunswick | Centre du Bénévolat du Sud-Est du Nouveau-Brunswick inc. - ECPv6.15.20//NONSGML v1.0//EN
CALSCALE:GREGORIAN
METHOD:PUBLISH
X-ORIGINAL-URL:https://volunteergreatermoncton.com
X-WR-CALDESC:Events for Volunteer Centre of Southeastern New Brunswick | Centre du Bénévolat du Sud-Est du Nouveau-Brunswick inc.
REFRESH-INTERVAL;VALUE=DURATION:PT1H
X-Robots-Tag:noindex
X-PUBLISHED-TTL:PT1H
BEGIN:VTIMEZONE
TZID:America/Moncton
BEGIN:DAYLIGHT
TZOFFSETFROM:-0400
TZOFFSETTO:-0300
TZNAME:ADT
DTSTART:20210314T060000
END:DAYLIGHT
BEGIN:STANDARD
TZOFFSETFROM:-0300
TZOFFSETTO:-0400
TZNAME:AST
DTSTART:20211107T050000
END:STANDARD
BEGIN:DAYLIGHT
TZOFFSETFROM:-0400
TZOFFSETTO:-0300
TZNAME:ADT
DTSTART:20220313T060000
END:DAYLIGHT
BEGIN:STANDARD
TZOFFSETFROM:-0300
TZOFFSETTO:-0400
TZNAME:AST
DTSTART:20221106T050000
END:STANDARD
BEGIN:DAYLIGHT
TZOFFSETFROM:-0400
TZOFFSETTO:-0300
TZNAME:ADT
DTSTART:20230312T060000
END:DAYLIGHT
BEGIN:STANDARD
TZOFFSETFROM:-0300
TZOFFSETTO:-0400
TZNAME:AST
DTSTART:20231105T050000
END:STANDARD
END:VTIMEZONE
BEGIN:VEVENT
DTSTART;TZID=America/Moncton:20220917T110000
DTEND;TZID=America/Moncton:20220920T120000
DTSTAMP:20260422T163515
CREATED:20220928T234855Z
LAST-MODIFIED:20220928T235202Z
UID:10000026-1663412400-1663675200@volunteergreatermoncton.com
SUMMARY:Eco360 is organizing a reuse Expo
DESCRIPTION:Eco360 is organizing a reuse Expo where the public will donate things\, and different charities and organizations will attend to pick up items they would like.\nThe event will occur at Moncton coliseum on the 17th\, 18th\, and 20th of September.\nSaturday and Sunday\, it will be from 11 am – 4 pm.\nOn Tuesday from 10 am-noon. (It was supposed to be on Monday but due to the national day of mourning it is going to be on Tuesday instead).\nIf you would like to participate\, kindly let me know which day you will be there.
URL:https://volunteergreatermoncton.com/event/eco360-is-organizing-a-reuse-expo/
CATEGORIES:Community
ATTACH;FMTTYPE=image/png:https://volunteergreatermoncton.com/wp-content/uploads/2022/09/logo-eco360.png
END:VEVENT
END:VCALENDAR