BEGIN:VCALENDAR
VERSION:2.0
PRODID:-//Volunteer Centre of Southeastern New Brunswick | Centre du Bénévolat du Sud-Est du Nouveau-Brunswick inc. - ECPv6.15.20//NONSGML v1.0//EN
CALSCALE:GREGORIAN
METHOD:PUBLISH
X-WR-CALNAME:Volunteer Centre of Southeastern New Brunswick | Centre du Bénévolat du Sud-Est du Nouveau-Brunswick inc.
X-ORIGINAL-URL:https://volunteergreatermoncton.com
X-WR-CALDESC:Events for Volunteer Centre of Southeastern New Brunswick | Centre du Bénévolat du Sud-Est du Nouveau-Brunswick inc.
REFRESH-INTERVAL;VALUE=DURATION:PT1H
X-Robots-Tag:noindex
X-PUBLISHED-TTL:PT1H
BEGIN:VTIMEZONE
TZID:America/Moncton
BEGIN:DAYLIGHT
TZOFFSETFROM:-0400
TZOFFSETTO:-0300
TZNAME:ADT
DTSTART:20210314T060000
END:DAYLIGHT
BEGIN:STANDARD
TZOFFSETFROM:-0300
TZOFFSETTO:-0400
TZNAME:AST
DTSTART:20211107T050000
END:STANDARD
BEGIN:DAYLIGHT
TZOFFSETFROM:-0400
TZOFFSETTO:-0300
TZNAME:ADT
DTSTART:20220313T060000
END:DAYLIGHT
BEGIN:STANDARD
TZOFFSETFROM:-0300
TZOFFSETTO:-0400
TZNAME:AST
DTSTART:20221106T050000
END:STANDARD
BEGIN:DAYLIGHT
TZOFFSETFROM:-0400
TZOFFSETTO:-0300
TZNAME:ADT
DTSTART:20230312T060000
END:DAYLIGHT
BEGIN:STANDARD
TZOFFSETFROM:-0300
TZOFFSETTO:-0400
TZNAME:AST
DTSTART:20231105T050000
END:STANDARD
END:VTIMEZONE
BEGIN:VEVENT
DTSTART;TZID=America/Moncton:20221001T100000
DTEND;TZID=America/Moncton:20221001T150000
DTSTAMP:20260422T144449
CREATED:20220921T192556Z
LAST-MODIFIED:20220929T005347Z
UID:10000001-1664618400-1664636400@volunteergreatermoncton.com
SUMMARY:Movers and Makers Fundraiser In Support of Shelter Movers
DESCRIPTION:Moncton\, New Brunswick – Shelter Movers Greater Moncton is hosting their inaugural Movers and Makers craft rummage sale in partnership with The Painted Pineapple at the Riverview Lions Club on October 1st from 10 am to 3 pm. Shelter Movers is a national\, volunteer-powered non-profit organization that provides free moving and storage to survivors fleeing abuse\, primarily women and children\, Shelter Movers is collecting new and gently used art and craft supplies to be sold at discounted rates at the event on October 1st.\nThe art and craft equipment can be dropped off at: \n\nThe Painted Pineapple (179 Bonaccord Street) before October 1st\, 2022;\nBoutique Hospice Shoppe (164 Collishaw Street) before October 1st\, 2022 or\nCurt’s Fall Pop-Up Market (701 Coverdale Road) on September 24\, between 9 am and 4 pm.\n\n“Though our service is free to our clients\, Shelter Movers’ internal cost to move one family and store their belongings is approximately $200\, so every dollar goes a long way!“ – Renee Charron\, Expansion Specialist for Shelter Movers Greater Moncton\nAll funds raised from the Movers and Makers event will help cover the move costs in and around\nthe Greater Moncton area.\n“The community support that Shelter Movers Greater Moncton has received has been amazing. It has been a pleasure to organize this event and watch the community come together for a much-needed cause.” – Michelle Tupy\, Volunteer Fundraiser for Shelter Movers Greater Moncton\nAbout Shelter Movers:\nShelter Movers is a national\, volunteer-powered charitable organization that provides moving and storage services at no cost to survivors of abuse. We collaborate with local businesses and community agencies to support families transitioning to a life free of violence. Currently operating in 6 cities across Canada\, our 2000+ volunteers move an average of 130 families\neach month. The Greater Moncton Chapter will be the seventh to launch nationwide and is anticipated to begin moves later this year.\nFor more information\, please contact Renée Charron at renee@sheltermovers.com or visit our website.
URL:https://volunteergreatermoncton.com/event/13639/
CATEGORIES:Community
ATTACH;FMTTYPE=image/jpeg:https://volunteergreatermoncton.com/wp-content/uploads/2021/12/Volunteer-with-us.jpg
END:VEVENT
BEGIN:VEVENT
DTSTART;VALUE=DATE:20221001
DTEND;VALUE=DATE:20221003
DTSTAMP:20260422T144449
CREATED:20220927T180035Z
LAST-MODIFIED:20220929T001840Z
UID:10000022-1664622000-1664708399@volunteergreatermoncton.com
SUMMARY:Love  For Local - New Brunswick invites you to LocalFest
DESCRIPTION:Join us in this one-of-a-kind celebration of all things local New Brunswick by helping make the very first LocalFest a stunning success. Bringing together vendors from all five economic regions of New Brunswick\, LocalFest is built around discoverability and audience expansion\, giving a new venue to those seeking to promote their products or services outside of their home region and creating a unique opportunity for supporters of local to gather and meet the people behind beloved local businesses from around the province. \nOverview\nThe inaugural LocalFest is bringing together over 150 locally-owned businesses from across New Brunswick. It’s all happening October 1st in Downtown Moncton. \nThe event provides an empowering opportunity for local businesses from a broad cross-section of sectors to showcase their offerings – products\, services\, and experiences to passionate supporters of all things New Brunswick. We’re welcoming everyone from all 5 regions of New Brunswick to join us for this extraordinary gathering filled with culinary delights\, fabulous shopping\, and live entertainment. When we support local\, our region thrives. \nLocation\nCanada Street – Ian Fowler Oval\, Avenir Centre. \nSIGN UP TO VOLUNTEER
URL:https://volunteergreatermoncton.com/event/love-for-local-new-brunswick-invites-you-to-localfest/
CATEGORIES:Community
ATTACH;FMTTYPE=image/webp:https://volunteergreatermoncton.com/wp-content/uploads/2022/09/LocalFest.webp
END:VEVENT
END:VCALENDAR