BEGIN:VCALENDAR
VERSION:2.0
PRODID:-//Volunteer Centre of Southeastern New Brunswick | Centre du Bénévolat du Sud-Est du Nouveau-Brunswick inc. - ECPv6.15.20//NONSGML v1.0//EN
CALSCALE:GREGORIAN
METHOD:PUBLISH
X-WR-CALNAME:Volunteer Centre of Southeastern New Brunswick | Centre du Bénévolat du Sud-Est du Nouveau-Brunswick inc.
X-ORIGINAL-URL:https://volunteergreatermoncton.com
X-WR-CALDESC:Events for Volunteer Centre of Southeastern New Brunswick | Centre du Bénévolat du Sud-Est du Nouveau-Brunswick inc.
REFRESH-INTERVAL;VALUE=DURATION:PT1H
X-Robots-Tag:noindex
X-PUBLISHED-TTL:PT1H
BEGIN:VTIMEZONE
TZID:America/Moncton
BEGIN:DAYLIGHT
TZOFFSETFROM:-0400
TZOFFSETTO:-0300
TZNAME:ADT
DTSTART:20210314T060000
END:DAYLIGHT
BEGIN:STANDARD
TZOFFSETFROM:-0300
TZOFFSETTO:-0400
TZNAME:AST
DTSTART:20211107T050000
END:STANDARD
BEGIN:DAYLIGHT
TZOFFSETFROM:-0400
TZOFFSETTO:-0300
TZNAME:ADT
DTSTART:20220313T060000
END:DAYLIGHT
BEGIN:STANDARD
TZOFFSETFROM:-0300
TZOFFSETTO:-0400
TZNAME:AST
DTSTART:20221106T050000
END:STANDARD
BEGIN:DAYLIGHT
TZOFFSETFROM:-0400
TZOFFSETTO:-0300
TZNAME:ADT
DTSTART:20230312T060000
END:DAYLIGHT
BEGIN:STANDARD
TZOFFSETFROM:-0300
TZOFFSETTO:-0400
TZNAME:AST
DTSTART:20231105T050000
END:STANDARD
END:VTIMEZONE
BEGIN:VEVENT
DTSTART;TZID=America/Moncton:20221112T080000
DTEND;TZID=America/Moncton:20221112T120000
DTSTAMP:20260422T131105
CREATED:20221025T024458Z
LAST-MODIFIED:20221026T130555Z
UID:10000039-1668240000-1668254400@volunteergreatermoncton.com
SUMMARY:Pancake breakfast in support of Shelter Movers Greater Moncton
DESCRIPTION:Because breakfast is the most important meal of the day \nJoin us at the Riverview Lion’s Club for a pancake breakfast in support of Shelter Movers Greater Moncton! Breakfast will be served on November 12 between 8 a.m. and 11 a.m. at 701 Coverdale\, Riverview. \nThe menu includes pancakes\, sausage\, eggs\, beans\, fruit juices\, and all the fixings. \nTickets are $10 per person or $30 for 4 people. Kids under 5 years of age eat free. \nAttendees are encouraged to pre-buy their tickets online [ HERE ]\, only a few tickets will be available at the door. Cash only. \nAll funds go directly to providing people\, primarily women and children\, with the moving and storage services they need to flee abusive homes. \nDon’t forget to like us on Facebook for more updates!
URL:https://volunteergreatermoncton.com/event/ancake-breakfast-in-support-of-shelter-movers-greater-moncton/
LOCATION:Lions Club\, 701 Coverdale\, Riverview\, NB
CATEGORIES:Community
ATTACH;FMTTYPE=image/jpeg:https://volunteergreatermoncton.com/wp-content/uploads/2022/10/Pancake-Breakfast-.jpg
END:VEVENT
END:VCALENDAR