BEGIN:VCALENDAR
VERSION:2.0
PRODID:-//Volunteer Centre of Southeastern New Brunswick | Centre du Bénévolat du Sud-Est du Nouveau-Brunswick inc. - ECPv6.15.20//NONSGML v1.0//EN
CALSCALE:GREGORIAN
METHOD:PUBLISH
X-ORIGINAL-URL:https://volunteergreatermoncton.com
X-WR-CALDESC:Events for Volunteer Centre of Southeastern New Brunswick | Centre du Bénévolat du Sud-Est du Nouveau-Brunswick inc.
REFRESH-INTERVAL;VALUE=DURATION:PT1H
X-Robots-Tag:noindex
X-PUBLISHED-TTL:PT1H
BEGIN:VTIMEZONE
TZID:America/Moncton
BEGIN:DAYLIGHT
TZOFFSETFROM:-0400
TZOFFSETTO:-0300
TZNAME:ADT
DTSTART:20210314T060000
END:DAYLIGHT
BEGIN:STANDARD
TZOFFSETFROM:-0300
TZOFFSETTO:-0400
TZNAME:AST
DTSTART:20211107T050000
END:STANDARD
BEGIN:DAYLIGHT
TZOFFSETFROM:-0400
TZOFFSETTO:-0300
TZNAME:ADT
DTSTART:20220313T060000
END:DAYLIGHT
BEGIN:STANDARD
TZOFFSETFROM:-0300
TZOFFSETTO:-0400
TZNAME:AST
DTSTART:20221106T050000
END:STANDARD
BEGIN:DAYLIGHT
TZOFFSETFROM:-0400
TZOFFSETTO:-0300
TZNAME:ADT
DTSTART:20230312T060000
END:DAYLIGHT
BEGIN:STANDARD
TZOFFSETFROM:-0300
TZOFFSETTO:-0400
TZNAME:AST
DTSTART:20231105T050000
END:STANDARD
END:VTIMEZONE
BEGIN:VEVENT
DTSTART;TZID=America/Moncton:20221123T090000
DTEND;TZID=America/Moncton:20221123T120000
DTSTAMP:20260422T131544
CREATED:20221019T170030Z
LAST-MODIFIED:20221019T170030Z
UID:10000037-1669194000-1669204800@volunteergreatermoncton.com
SUMMARY:Presentations for Registered Charities and NPOs in November
DESCRIPTION:I am offering a day of presentations in Halifax on November 23rd and via Zoom on November 29th and 30th on the following topics: \nDeveloping a Fundraising Program – The goal of the workshop is to identify the objectives of a fundraising plan and develop the framework for a fundraising strategy. It is tailored for small to medium-sized organizations that either are looking to launch a fundraising program or currently undertake fundraising but do not have a formal program in place. \nObligations of Registered Charities – The focus of this presentation is to highlight the responsibilities that accompany registered status such as devotion of resources to charitable purposes and activities\, the issuance of tax receipts for eligible gifts\, the filing of the T3010 Annual Information Return\, and maintaining adequate books. It also highlights fee-based charitable programs\, allowable business activities\, and provides clarity on the social enterprise concept. \nFor complete details\, please visit: https://oylerconsulting.ca/sector-presentations/ \nThank you\, \nDavid Oyler\nOyler Consulting\nHalifax\, NS\nTel: (902) 476-4755
URL:https://volunteergreatermoncton.com/event/presentations-for-registered-charities-and-npos-in-november/
CATEGORIES:Community
ATTACH;FMTTYPE=image/jpeg:https://volunteergreatermoncton.com/wp-content/uploads/2022/10/oyler.jpg
END:VEVENT
END:VCALENDAR