BEGIN:VCALENDAR
VERSION:2.0
PRODID:-//Volunteer Centre of Southeastern New Brunswick | Centre du Bénévolat du Sud-Est du Nouveau-Brunswick inc. - ECPv6.15.20//NONSGML v1.0//EN
CALSCALE:GREGORIAN
METHOD:PUBLISH
X-ORIGINAL-URL:https://volunteergreatermoncton.com
X-WR-CALDESC:Events for Volunteer Centre of Southeastern New Brunswick | Centre du Bénévolat du Sud-Est du Nouveau-Brunswick inc.
REFRESH-INTERVAL;VALUE=DURATION:PT1H
X-Robots-Tag:noindex
X-PUBLISHED-TTL:PT1H
BEGIN:VTIMEZONE
TZID:America/Moncton
BEGIN:DAYLIGHT
TZOFFSETFROM:-0400
TZOFFSETTO:-0300
TZNAME:ADT
DTSTART:20210314T060000
END:DAYLIGHT
BEGIN:STANDARD
TZOFFSETFROM:-0300
TZOFFSETTO:-0400
TZNAME:AST
DTSTART:20211107T050000
END:STANDARD
BEGIN:DAYLIGHT
TZOFFSETFROM:-0400
TZOFFSETTO:-0300
TZNAME:ADT
DTSTART:20220313T060000
END:DAYLIGHT
BEGIN:STANDARD
TZOFFSETFROM:-0300
TZOFFSETTO:-0400
TZNAME:AST
DTSTART:20221106T050000
END:STANDARD
BEGIN:DAYLIGHT
TZOFFSETFROM:-0400
TZOFFSETTO:-0300
TZNAME:ADT
DTSTART:20230312T060000
END:DAYLIGHT
BEGIN:STANDARD
TZOFFSETFROM:-0300
TZOFFSETTO:-0400
TZNAME:AST
DTSTART:20231105T050000
END:STANDARD
END:VTIMEZONE
BEGIN:VEVENT
DTSTART;TZID=America/Moncton:20221129T080000
DTEND;TZID=America/Moncton:20221129T233000
DTSTAMP:20260422T114841
CREATED:20221128T123430Z
LAST-MODIFIED:20221128T131130Z
UID:10000066-1669708800-1669764600@volunteergreatermoncton.com
SUMMARY:Volunteer Canada: Giving Tuesday\, November 29\, 2022
DESCRIPTION:Donate your time and talent!\n24 million volunteers. 5 billion hours.\nVolunteer engagement is vital to the successful operation and program execution of Canada’s non-profit sector. Volunteer engagement has value. Giving your time has value. \nVolunteer Canada Facebook post \nVolunteer Canada
URL:https://volunteergreatermoncton.com/event/volunteer-canada-giving-tuesday-november-29-2022/
CATEGORIES:Community
ATTACH;FMTTYPE=image/png:https://volunteergreatermoncton.com/wp-content/uploads/2022/11/Giving-Tuesday.png
END:VEVENT
END:VCALENDAR