BEGIN:VCALENDAR
VERSION:2.0
PRODID:-//Volunteer Centre of Southeastern New Brunswick | Centre du Bénévolat du Sud-Est du Nouveau-Brunswick inc. - ECPv6.15.20//NONSGML v1.0//EN
CALSCALE:GREGORIAN
METHOD:PUBLISH
X-ORIGINAL-URL:https://volunteergreatermoncton.com
X-WR-CALDESC:Events for Volunteer Centre of Southeastern New Brunswick | Centre du Bénévolat du Sud-Est du Nouveau-Brunswick inc.
REFRESH-INTERVAL;VALUE=DURATION:PT1H
X-Robots-Tag:noindex
X-PUBLISHED-TTL:PT1H
BEGIN:VTIMEZONE
TZID:America/Moncton
BEGIN:DAYLIGHT
TZOFFSETFROM:-0400
TZOFFSETTO:-0300
TZNAME:ADT
DTSTART:20220313T060000
END:DAYLIGHT
BEGIN:STANDARD
TZOFFSETFROM:-0300
TZOFFSETTO:-0400
TZNAME:AST
DTSTART:20221106T050000
END:STANDARD
BEGIN:DAYLIGHT
TZOFFSETFROM:-0400
TZOFFSETTO:-0300
TZNAME:ADT
DTSTART:20230312T060000
END:DAYLIGHT
BEGIN:STANDARD
TZOFFSETFROM:-0300
TZOFFSETTO:-0400
TZNAME:AST
DTSTART:20231105T050000
END:STANDARD
BEGIN:DAYLIGHT
TZOFFSETFROM:-0400
TZOFFSETTO:-0300
TZNAME:ADT
DTSTART:20240310T060000
END:DAYLIGHT
BEGIN:STANDARD
TZOFFSETFROM:-0300
TZOFFSETTO:-0400
TZNAME:AST
DTSTART:20241103T050000
END:STANDARD
END:VTIMEZONE
BEGIN:VEVENT
DTSTART;TZID=America/Moncton:20230222T130000
DTEND;TZID=America/Moncton:20230222T160000
DTSTAMP:20260422T084242
CREATED:20230213T143714Z
LAST-MODIFIED:20230213T145639Z
UID:10000079-1677070800-1677081600@volunteergreatermoncton.com
SUMMARY:CONNECT WITH NEW FRIENDS  AT OUR VIRTUAL DROP-IN CENTRE
DESCRIPTION:URR Virtual Drop In Centre Meeting – Wednesday\, February 22nd @ 1:00 pm. \nUrban Rural Rides is pleased to announce that our ‘Virtual Drop In Centre’ is now available to participants in Westmorland and Albert Counties.  We started our pilot project in partnership with the residents at Caledonia Place in Hillsborough and have been having great conversations.  We host our meetings once a month and our next zoom meeting is on Wednesday\, February 22nd  at 1:00 pm – {see virtual link below}.  Our topic this month will be ‘Health and Well-being’ and we are pleased to have Sarah Lord\, Ph. D. Health  and Wellness Coordinator & Deidre Beckwith\, BN\, RN MN with Jean Coutu Pharmacy in Riverview.  They will be          sharing information about their services and can answer and questions about diabetes\, the importance of movement and Covid vaccines.  Hope you can drop by as this is a perfect time to connect with new friends especially in the rural community. \nBring a coffee and join us at our next meeting  \n‘Health and Well-being’ Zoom Meeting Wednesday – 22 Feb 2023 ⋅ 1pm – 3pm (Atlantic Time – Halifax) \nJoin Zoom Meeting \nhttps://us06web.zoom.us/j/86149635988?pwd=YlNxVFRiV0VOTllrS3R0cjErQXFNZz09 \nMeeting ID: 861 4963 5988 / Passcode: 000528 / Find your local number: https://us06web.zoom.us/u/kcLpMMlIkk \nOrganizers:   Kirstin Shortt\, Chairperson\, Urban Rural Rides – kshortturbanruralrides@gmail.com \nDebbi LeBlanc\, Manager\, Urban Rides – d.leblanc@volunteergreatermoncton.com \n\n\n\nEphesus Trip Zoom Meeting\n\n\n\nThursday 26 Jan 2023 ⋅ 1pm – 3pm (Atlantic Time – Halifax) \nKirstin Shortt is inviting you to a scheduled Zoom meeting. \nJoin Zoom Meeting\nhttps://us06web.zoom.us/j/82211761568?pwd=SThxRi9LbkgrUUcxaXIxODlGZWgzQT09 \n\n\n\nMeeting ID: 822 1176 1568\nPasscode: 744748\nFind your local number: https://us06web.zoom.us/u/kcA2yOyZ6M\nLocation\n\n\n\nView map \n\n\n\nOrganiser\n\n\nkshortturbanruralrides@gmail.com\n\n\n  \nKirstin Shortt\, Chairperson\, Urban Rural Rides \nDebbi LeBlanc\, Manager\, Urban Rides
URL:https://volunteergreatermoncton.com/event/connect-with-new-friends-at-our-virtual-drop-in-centre-2/
CATEGORIES:Community
ATTACH;FMTTYPE=image/png:https://volunteergreatermoncton.com/wp-content/uploads/2023/01/drop-in.png
END:VEVENT
END:VCALENDAR