BEGIN:VCALENDAR
VERSION:2.0
PRODID:-//Volunteer Centre of Southeastern New Brunswick | Centre du Bénévolat du Sud-Est du Nouveau-Brunswick inc. - ECPv6.15.20//NONSGML v1.0//EN
CALSCALE:GREGORIAN
METHOD:PUBLISH
X-WR-CALNAME:Volunteer Centre of Southeastern New Brunswick | Centre du Bénévolat du Sud-Est du Nouveau-Brunswick inc.
X-ORIGINAL-URL:https://volunteergreatermoncton.com
X-WR-CALDESC:Events for Volunteer Centre of Southeastern New Brunswick | Centre du Bénévolat du Sud-Est du Nouveau-Brunswick inc.
REFRESH-INTERVAL;VALUE=DURATION:PT1H
X-Robots-Tag:noindex
X-PUBLISHED-TTL:PT1H
BEGIN:VTIMEZONE
TZID:America/Moncton
BEGIN:DAYLIGHT
TZOFFSETFROM:-0400
TZOFFSETTO:-0300
TZNAME:ADT
DTSTART:20220313T060000
END:DAYLIGHT
BEGIN:STANDARD
TZOFFSETFROM:-0300
TZOFFSETTO:-0400
TZNAME:AST
DTSTART:20221106T050000
END:STANDARD
BEGIN:DAYLIGHT
TZOFFSETFROM:-0400
TZOFFSETTO:-0300
TZNAME:ADT
DTSTART:20230312T060000
END:DAYLIGHT
BEGIN:STANDARD
TZOFFSETFROM:-0300
TZOFFSETTO:-0400
TZNAME:AST
DTSTART:20231105T050000
END:STANDARD
BEGIN:DAYLIGHT
TZOFFSETFROM:-0400
TZOFFSETTO:-0300
TZNAME:ADT
DTSTART:20240310T060000
END:DAYLIGHT
BEGIN:STANDARD
TZOFFSETFROM:-0300
TZOFFSETTO:-0400
TZNAME:AST
DTSTART:20241103T050000
END:STANDARD
END:VTIMEZONE
BEGIN:VEVENT
DTSTART;TZID=America/Moncton:20230301T080000
DTEND;TZID=America/Moncton:20230403T170000
DTSTAMP:20260422T074249
CREATED:20230301T142406Z
LAST-MODIFIED:20230301T145701Z
UID:10000083-1677657600-1680541200@volunteergreatermoncton.com
SUMMARY:NOMINATIONS ARE NOW BEING ACCEPTED
DESCRIPTION:#BECCATOLDMETO OUTSTANDING YOUTH VOLUNTEER OF THE YEAR AWARD 2023 \nThe Volunteer Centre of Southeastern New Brunswick is calling for nominations of deserving youth volunteers. The #Beccatoldmeto Outstanding Youth Volunteer Award was created in honour of Becca Schofield as her #Beccatoldmeto acts of kindness has inspired so many young individuals to make a difference in our community. \nYOUTH VOLUNTEER CRITERIA\nThis year’s nominee must meet the following : \n\nBe a youth between 15 and 25 years\nDemonstrates how their volunteer effort and/or act of kindness has impacted someone’s life and/or the community\nDemonstrates initiative and creativity\nServes as a role model for others in his/her community\nBe nominated by an individual or organization {please include e-mail and telephone number}\n\nSubmissions will be accepted either in a word document {not to exceed one page} or video {not to exceed five minutes} \nPlease include a photo of the nominee for promotional purposes\nPlease send nominations to d.leblanc@volunteergreatermoncton.com no later than April 3\, 2023. The successful nominee will be presented with the #Beccatoldmeto Outstanding Youth Volunteer of the Year Award 2023 during National Week {April 16-22} at an in person ‘Volunteer Recognition Event’ being held on April 18th at Legends Restaurant in Moncton.
URL:https://volunteergreatermoncton.com/event/nominations-are-now-being-accepted-2/
CATEGORIES:Community,NVW
ATTACH;FMTTYPE=image/jpeg:https://volunteergreatermoncton.com/wp-content/uploads/2023/03/becca-en.jpg
END:VEVENT
BEGIN:VEVENT
DTSTART;VALUE=DATE:20230322
DTEND;VALUE=DATE:20230324
DTSTAMP:20260422T074249
CREATED:20230311T192409Z
LAST-MODIFIED:20230311T193359Z
UID:10000087-1679443200-1679615999@volunteergreatermoncton.com
SUMMARY:SYMPOSIUM : Public and Community Transportation in N.B
DESCRIPTION:The Economic and Social Inclusion Corporation is hosting a symposium on public and community transportation in NB on March 22 and 23\, 2023. \nWho will be interested?\nIndividuals and groups with an interest\, mandate\, knowledge or experience in passenger transportation in N.B.\, or who wish to collaborate in the creation of integrated regional strategies. \nGoals\nCreation of integrated regional transportation strategies linked to the local governance reform and Overcoming Poverty Together: NB’s Economic and Social Inclusion Plan. \nLocation\nDelta Hotel\, Fredericton\nA block of rooms has been reserved.\nTo book a room and get the group rate of $159/night\, click here to Book a room Delta Fredericton. \nMore information \nhttps://www2.gnb.ca/content/gnb/en/departments/esic/symposium.html \nFree Registration
URL:https://volunteergreatermoncton.com/event/symposium-public-and-community-transportation-in-n-b/
CATEGORIES:Community
ATTACH;FMTTYPE=image/png:https://volunteergreatermoncton.com/wp-content/uploads/2023/03/symposium-transport.png
END:VEVENT
BEGIN:VEVENT
DTSTART;TZID=America/Moncton:20230323T100000
DTEND;TZID=America/Moncton:20230323T140000
DTSTAMP:20260422T074249
CREATED:20230318T132636Z
LAST-MODIFIED:20230318T132835Z
UID:10000091-1679565600-1679580000@volunteergreatermoncton.com
SUMMARY:Le CAFI
DESCRIPTION:Nous vous invitons aux portes ouvertes des nouveaux bureaux du CAFi!\n\n\nMonsieur Marcel Goguen\, président du conseil d’administration et madame Angèle Losier\, directrice générale\, ont le plaisir de vous inviter aux portes ouvertes officielles des nouveaux bureaux du CAFi du 200 rue Champlain\, suite 150 \n\n\nLe 23 mars 2023 à 10 heures\, au 200 rue Champlain à Dieppe\, suite 150\n\n\nNous vous demandons de bien vouloir nous confirmer votre présence par retour courriel à anita.delphin@cafi-nb.org\n\n\nUn léger goûter sera servi!\nAu plaisir de vous accueillir au CAFi!
URL:https://volunteergreatermoncton.com/event/le-cafi/
CATEGORIES:Community
ATTACH;FMTTYPE=image/jpeg:https://volunteergreatermoncton.com/wp-content/uploads/2023/03/cafi-bureau.jpg
END:VEVENT
END:VCALENDAR