BEGIN:VCALENDAR
VERSION:2.0
PRODID:-//Volunteer Centre of Southeastern New Brunswick | Centre du Bénévolat du Sud-Est du Nouveau-Brunswick inc. - ECPv6.15.20//NONSGML v1.0//EN
CALSCALE:GREGORIAN
METHOD:PUBLISH
X-ORIGINAL-URL:https://volunteergreatermoncton.com
X-WR-CALDESC:Events for Volunteer Centre of Southeastern New Brunswick | Centre du Bénévolat du Sud-Est du Nouveau-Brunswick inc.
REFRESH-INTERVAL;VALUE=DURATION:PT1H
X-Robots-Tag:noindex
X-PUBLISHED-TTL:PT1H
BEGIN:VTIMEZONE
TZID:America/Moncton
BEGIN:DAYLIGHT
TZOFFSETFROM:-0400
TZOFFSETTO:-0300
TZNAME:ADT
DTSTART:20220313T060000
END:DAYLIGHT
BEGIN:STANDARD
TZOFFSETFROM:-0300
TZOFFSETTO:-0400
TZNAME:AST
DTSTART:20221106T050000
END:STANDARD
BEGIN:DAYLIGHT
TZOFFSETFROM:-0400
TZOFFSETTO:-0300
TZNAME:ADT
DTSTART:20230312T060000
END:DAYLIGHT
BEGIN:STANDARD
TZOFFSETFROM:-0300
TZOFFSETTO:-0400
TZNAME:AST
DTSTART:20231105T050000
END:STANDARD
BEGIN:DAYLIGHT
TZOFFSETFROM:-0400
TZOFFSETTO:-0300
TZNAME:ADT
DTSTART:20240310T060000
END:DAYLIGHT
BEGIN:STANDARD
TZOFFSETFROM:-0300
TZOFFSETTO:-0400
TZNAME:AST
DTSTART:20241103T050000
END:STANDARD
END:VTIMEZONE
BEGIN:VEVENT
DTSTART;TZID=America/Moncton:20230301T080000
DTEND;TZID=America/Moncton:20230403T170000
DTSTAMP:20260422T055454
CREATED:20230301T142406Z
LAST-MODIFIED:20230301T145701Z
UID:10000083-1677657600-1680541200@volunteergreatermoncton.com
SUMMARY:NOMINATIONS ARE NOW BEING ACCEPTED
DESCRIPTION:#BECCATOLDMETO OUTSTANDING YOUTH VOLUNTEER OF THE YEAR AWARD 2023 \nThe Volunteer Centre of Southeastern New Brunswick is calling for nominations of deserving youth volunteers. The #Beccatoldmeto Outstanding Youth Volunteer Award was created in honour of Becca Schofield as her #Beccatoldmeto acts of kindness has inspired so many young individuals to make a difference in our community. \nYOUTH VOLUNTEER CRITERIA\nThis year’s nominee must meet the following : \n\nBe a youth between 15 and 25 years\nDemonstrates how their volunteer effort and/or act of kindness has impacted someone’s life and/or the community\nDemonstrates initiative and creativity\nServes as a role model for others in his/her community\nBe nominated by an individual or organization {please include e-mail and telephone number}\n\nSubmissions will be accepted either in a word document {not to exceed one page} or video {not to exceed five minutes} \nPlease include a photo of the nominee for promotional purposes\nPlease send nominations to d.leblanc@volunteergreatermoncton.com no later than April 3\, 2023. The successful nominee will be presented with the #Beccatoldmeto Outstanding Youth Volunteer of the Year Award 2023 during National Week {April 16-22} at an in person ‘Volunteer Recognition Event’ being held on April 18th at Legends Restaurant in Moncton.
URL:https://volunteergreatermoncton.com/event/nominations-are-now-being-accepted-2/
CATEGORIES:Community,NVW
ATTACH;FMTTYPE=image/jpeg:https://volunteergreatermoncton.com/wp-content/uploads/2023/03/becca-en.jpg
END:VEVENT
BEGIN:VEVENT
DTSTART;TZID=America/Moncton:20230329T080000
DTEND;TZID=America/Moncton:20230426T170000
DTSTAMP:20260422T055454
CREATED:20230409T000237Z
LAST-MODIFIED:20230409T001031Z
UID:10000095-1680076800-1682528400@volunteergreatermoncton.com
SUMMARY:Nominations are open for the next Canada’s Volunteer Awards!
DESCRIPTION:Now is your chance to nominate an individual\, a business\, a social enterprise or a not-for-profit for their exceptional volunteer contributions. \nFor more info on how to nominate\, visit http://ow.ly/neFb50Nvlou
URL:https://volunteergreatermoncton.com/event/nominations-are-open-for-the-next-canadas-volunteer-awards/
CATEGORIES:Community,NVW
ATTACH;FMTTYPE=image/jpeg:https://volunteergreatermoncton.com/wp-content/uploads/2023/04/canada-award-volunt2023.jpg
END:VEVENT
BEGIN:VEVENT
DTSTART;TZID=America/Moncton:20230329T130000
DTEND;TZID=America/Moncton:20230329T150000
DTSTAMP:20260422T055454
CREATED:20230304T134029Z
LAST-MODIFIED:20230304T134029Z
UID:10000085-1680094800-1680102000@volunteergreatermoncton.com
SUMMARY:CONNECT WITH NEW FRIENDS  AT OUR VIRTUAL DROP-IN CENTRE
DESCRIPTION:URR Virtual Drop In Centre Meeting – Wednesday\, March 29th @ 1:00 pm. \nUrban Rural Rides is pleased to announce that our ‘Virtual Drop In Centre’ is now available to participants in Southeastern New Brunswick.  We started our pilot project in partnership with the residents at Caledonia Place in Hillsborough and have been having great conversations.  We host our meetings once a month and our next zoom meeting is on Wednesday\, March 29th at 1:00 pm – {see virtual link below}.  Our topic this month will be ‘Taste of Asia’ and we are pleased to have Kirstin Shortt\, President of Urban Rural Rides tell us all about her recent trip to Asia.  She will be sharing information about the geography\, philosophy\, culture and the people including great photos and videos. Hope you can drop by as this is a perfect time to connect with new friends especially in the rural community. \nBring a coffee and join us at our next meeting! \n‘Taste of Asia’ Zoom Meeting Wednesday – 29 March 2023 ⋅ 1pm – 3pm (Atlantic Time – Halifax) \nJoin Zoom Meeting \nhttps://us06web.zoom.us/j/86149635988?pwd=YlNxVFRiV0VOTllrS3R0cjErQXFNZz09 \nMeeting ID: 812 1898 0066 / Passcode: 083700 / Find your local number: https://us06web.zoom.us/u/kcLpMMlIkk \nOrganizers:\nKirstin Shortt\, Chairperson\, Urban Rural Rides\nkshortturbanruralrides@gmail.com \nDebbi LeBlanc\, Manager\, Urban Rides\nd.leblanc@volunteergreatermoncton.com
URL:https://volunteergreatermoncton.com/event/connect-with-new-friends-at-our-virtual-drop-in-centre-3/
CATEGORIES:Community
ATTACH;FMTTYPE=image/png:https://volunteergreatermoncton.com/wp-content/uploads/2023/01/drop-in.png
END:VEVENT
END:VCALENDAR