BEGIN:VCALENDAR
VERSION:2.0
PRODID:-//Volunteer Centre of Southeastern New Brunswick | Centre du Bénévolat du Sud-Est du Nouveau-Brunswick inc. - ECPv6.15.20//NONSGML v1.0//EN
CALSCALE:GREGORIAN
METHOD:PUBLISH
X-WR-CALNAME:Volunteer Centre of Southeastern New Brunswick | Centre du Bénévolat du Sud-Est du Nouveau-Brunswick inc.
X-ORIGINAL-URL:https://volunteergreatermoncton.com
X-WR-CALDESC:Events for Volunteer Centre of Southeastern New Brunswick | Centre du Bénévolat du Sud-Est du Nouveau-Brunswick inc.
REFRESH-INTERVAL;VALUE=DURATION:PT1H
X-Robots-Tag:noindex
X-PUBLISHED-TTL:PT1H
BEGIN:VTIMEZONE
TZID:America/Moncton
BEGIN:DAYLIGHT
TZOFFSETFROM:-0400
TZOFFSETTO:-0300
TZNAME:ADT
DTSTART:20220313T060000
END:DAYLIGHT
BEGIN:STANDARD
TZOFFSETFROM:-0300
TZOFFSETTO:-0400
TZNAME:AST
DTSTART:20221106T050000
END:STANDARD
BEGIN:DAYLIGHT
TZOFFSETFROM:-0400
TZOFFSETTO:-0300
TZNAME:ADT
DTSTART:20230312T060000
END:DAYLIGHT
BEGIN:STANDARD
TZOFFSETFROM:-0300
TZOFFSETTO:-0400
TZNAME:AST
DTSTART:20231105T050000
END:STANDARD
BEGIN:DAYLIGHT
TZOFFSETFROM:-0400
TZOFFSETTO:-0300
TZNAME:ADT
DTSTART:20240310T060000
END:DAYLIGHT
BEGIN:STANDARD
TZOFFSETFROM:-0300
TZOFFSETTO:-0400
TZNAME:AST
DTSTART:20241103T050000
END:STANDARD
END:VTIMEZONE
BEGIN:VEVENT
DTSTART;TZID=America/Moncton:20230527T090000
DTEND;TZID=America/Moncton:20230527T120000
DTSTAMP:20260420T023310
CREATED:20230524T133143Z
LAST-MODIFIED:20230524T134706Z
UID:10000118-1685178000-1685188800@volunteergreatermoncton.com
SUMMARY:Coffee tasting experience\, hosted by Epoch Chemistry in support of Shelter Movers
DESCRIPTION:Epoch Chemistry Coffee House is holding a coffee-tasting experience fundraiser on Saturday\, May 27 at 9:00 a.m. in support of Shelter Movers Greater Moncton. \nEpoch Chemistry’s experienced guides will take you through the steps of brewing\, tasting\, and understanding a region’s unique coffee flavours and aromas. They’ll also teach you how to replicate these impressive drinks\, leaving you feeling like a coffee connoisseur. \nAll proceeds will go to support survivors of abuse in Greater Moncton. \nThis event is open to the public. Tickets are $40 per person and must be purchased in advance. \nQuick Facts \n\nShelter Movers 2\,200 volunteers move 129 families in crisis each month. They are essential to ensuring the organization can continue to support survivors of gender-based violence and their families.\nSurvivors of family conflict and spousal abuse account for up to 37% of people experiencing homelessness in New Brunswick\nShelter Movers Greater Moncton’s 60+ volunteers have already helped over 40 clients\, their children and their pets on their journey to a life free of violence.\n\nRelated Links:\n● Event Registration\n● Donate\n● Volunteer \nAbout Shelter Movers: Shelter Movers is a national\, volunteer-powered charitable organization that provides moving and storage services at no cost to individuals and families fleeing abuse. It is the only service of its kind offered in Canada. We collaborate with local businesses and community agencies to support people\, primarily women and children\, as they transition to a life free of violence. Founded in 2016\, Shelter Movers has grown remarkably\, expanding to 7 locations across Canada. To date\, our team of dedicated volunteers have completed more than 5\,000 moves for survivors of abuse. \nAbout Epoch Chemistry: Epoch Chemistry started as a passionate endeavour by Conor Conway and Matt Symes to bring the best coffee to Atlantic Canada. What initially started as a dream of a cafe grew into an individual business model in coffee\, focused on education and experience. Epoch Chemistry is committed to serving ethically sourced and made products. \nFor more information\, please contact media@sheltermovers.com.\nFor event registration\, please visit our website or Facebook page.
URL:https://volunteergreatermoncton.com/event/coffee-tasting-experience-hosted-by-epoch-chemistry-in-support-of-shelter-movers/
CATEGORIES:Community
ATTACH;FMTTYPE=image/png:https://volunteergreatermoncton.com/wp-content/uploads/2023/05/cropped-SM-logo-transitsecours-500x142-1.png
END:VEVENT
END:VCALENDAR