BEGIN:VCALENDAR
VERSION:2.0
PRODID:-//Volunteer Centre of Southeastern New Brunswick | Centre du Bénévolat du Sud-Est du Nouveau-Brunswick inc. - ECPv6.15.20//NONSGML v1.0//EN
CALSCALE:GREGORIAN
METHOD:PUBLISH
X-WR-CALNAME:Volunteer Centre of Southeastern New Brunswick | Centre du Bénévolat du Sud-Est du Nouveau-Brunswick inc.
X-ORIGINAL-URL:https://volunteergreatermoncton.com
X-WR-CALDESC:Events for Volunteer Centre of Southeastern New Brunswick | Centre du Bénévolat du Sud-Est du Nouveau-Brunswick inc.
REFRESH-INTERVAL;VALUE=DURATION:PT1H
X-Robots-Tag:noindex
X-PUBLISHED-TTL:PT1H
BEGIN:VTIMEZONE
TZID:America/Moncton
BEGIN:DAYLIGHT
TZOFFSETFROM:-0400
TZOFFSETTO:-0300
TZNAME:ADT
DTSTART:20220313T060000
END:DAYLIGHT
BEGIN:STANDARD
TZOFFSETFROM:-0300
TZOFFSETTO:-0400
TZNAME:AST
DTSTART:20221106T050000
END:STANDARD
BEGIN:DAYLIGHT
TZOFFSETFROM:-0400
TZOFFSETTO:-0300
TZNAME:ADT
DTSTART:20230312T060000
END:DAYLIGHT
BEGIN:STANDARD
TZOFFSETFROM:-0300
TZOFFSETTO:-0400
TZNAME:AST
DTSTART:20231105T050000
END:STANDARD
BEGIN:DAYLIGHT
TZOFFSETFROM:-0400
TZOFFSETTO:-0300
TZNAME:ADT
DTSTART:20240310T060000
END:DAYLIGHT
BEGIN:STANDARD
TZOFFSETFROM:-0300
TZOFFSETTO:-0400
TZNAME:AST
DTSTART:20241103T050000
END:STANDARD
END:VTIMEZONE
BEGIN:VEVENT
DTSTART;TZID=America/Moncton:20230602T080000
DTEND;TZID=America/Moncton:20230707T170000
DTSTAMP:20260420T005535
CREATED:20230606T151645Z
LAST-MODIFIED:20230606T152912Z
UID:10000122-1685692800-1688749200@volunteergreatermoncton.com
SUMMARY:SEEKING NOMINATIONS 2023 Order of Moncton
DESCRIPTION:As the 2023 Order of Moncton campaign begins\, I am writing to the various associations\, organizations and groups in our city to submit\, or encourage individuals to submit\, nominations for people they believe are qualified for this important honour – the highest award in our city. We would appreciate your circulating this information to your networks. \nNominees must be past or present\, long‐term residents of Moncton who have brought honour to Moncton on a national or international scale. Elected representatives currently serving on Moncton City Council\, the Provincial Legislature\, the House of Commons\, the Senate\, and judges of any court are not eligible for nomination. \nConsult our website for a list of past inductees. \nNominations and letters of support must be submitted by July 7\, 2023; forms may be obtained at City Hall\, 655 Main Street\, or online at Order of Moncton | City of Moncton. \nThank you for helping us recognize well-deserving Monctonians. \nDawn Arnold\nMayor / Mairesse\nVille de Moncton / City of Moncton \n \ndawn.arnold@moncton.ca\nT: 506.856.4343\nC: 506.871.5160 \n 
URL:https://volunteergreatermoncton.com/event/seeking-nominations-2023-order-of-moncton/
CATEGORIES:Community
ATTACH;FMTTYPE=image/jpeg:https://volunteergreatermoncton.com/wp-content/uploads/2022/05/image001.jpg
END:VEVENT
BEGIN:VEVENT
DTSTART;TZID=America/Moncton:20230604T080000
DTEND;TZID=America/Moncton:20230604T170000
DTSTAMP:20260420T005535
CREATED:20230505T145557Z
LAST-MODIFIED:20230505T145954Z
UID:10000110-1685865600-1685898000@volunteergreatermoncton.com
SUMMARY:The Greater Moncton Area Gutsy Walk
DESCRIPTION:The Greater Moncton Area Gutsy Walk is coming up on Sunday\, June 4\, 2023. We’re looking for volunteers to help organize the event\, as well as helping on the day of the event. \nGutsy Walk is a fun-filled\, family-friendly\, and non-competitive day to walk in support of those impacted by Crohn’s disease and ulcerative colitis. Volunteering for your local Gutsy Walk is an opportunity for you to make a real difference in the lives of those diagnosed with Crohn’s disease or ulcerative colitis who are living not only in your local community\, but in communities across Canada. We promise you’ll have fun\, meet some awesome people and see the impact you’re making! \nFor more information\, please contact Dawna MacIvor\, Development and Community Engagement Coordinator for Atlantic Canada – dmacivor@crohnsandcolitis.ca(1-800-265-1101) – or visit gutsywalk.ca
URL:https://volunteergreatermoncton.com/event/the-greater-moncton-area-gutsy-walk/
CATEGORIES:Community
ATTACH;FMTTYPE=image/png:https://volunteergreatermoncton.com/wp-content/uploads/2023/05/Gusty-walk.png
END:VEVENT
END:VCALENDAR