BEGIN:VCALENDAR
VERSION:2.0
PRODID:-//Volunteer Centre of Southeastern New Brunswick | Centre du Bénévolat du Sud-Est du Nouveau-Brunswick inc. - ECPv6.15.20//NONSGML v1.0//EN
CALSCALE:GREGORIAN
METHOD:PUBLISH
X-WR-CALNAME:Volunteer Centre of Southeastern New Brunswick | Centre du Bénévolat du Sud-Est du Nouveau-Brunswick inc.
X-ORIGINAL-URL:https://volunteergreatermoncton.com
X-WR-CALDESC:Events for Volunteer Centre of Southeastern New Brunswick | Centre du Bénévolat du Sud-Est du Nouveau-Brunswick inc.
REFRESH-INTERVAL;VALUE=DURATION:PT1H
X-Robots-Tag:noindex
X-PUBLISHED-TTL:PT1H
BEGIN:VTIMEZONE
TZID:America/Moncton
BEGIN:DAYLIGHT
TZOFFSETFROM:-0400
TZOFFSETTO:-0300
TZNAME:ADT
DTSTART:20220313T060000
END:DAYLIGHT
BEGIN:STANDARD
TZOFFSETFROM:-0300
TZOFFSETTO:-0400
TZNAME:AST
DTSTART:20221106T050000
END:STANDARD
BEGIN:DAYLIGHT
TZOFFSETFROM:-0400
TZOFFSETTO:-0300
TZNAME:ADT
DTSTART:20230312T060000
END:DAYLIGHT
BEGIN:STANDARD
TZOFFSETFROM:-0300
TZOFFSETTO:-0400
TZNAME:AST
DTSTART:20231105T050000
END:STANDARD
BEGIN:DAYLIGHT
TZOFFSETFROM:-0400
TZOFFSETTO:-0300
TZNAME:ADT
DTSTART:20240310T060000
END:DAYLIGHT
BEGIN:STANDARD
TZOFFSETFROM:-0300
TZOFFSETTO:-0400
TZNAME:AST
DTSTART:20241103T050000
END:STANDARD
END:VTIMEZONE
BEGIN:VEVENT
DTSTART;TZID=America/Moncton:20230721T140000
DTEND;TZID=America/Moncton:20230721T160000
DTSTAMP:20260420T005541
CREATED:20230709T133249Z
LAST-MODIFIED:20230709T133336Z
UID:10000138-1689948000-1689955200@volunteergreatermoncton.com
SUMMARY:URR Virtual Drop In Centre Meeting : Travel with us to South East Asia
DESCRIPTION:Urban Rural Rides is pleased to announce that our ‘Virtual Drop In Centre’ is available to participants in New Brunswick.                                 We host our meetings once a month and our next zoom meeting is on Friday\, July 21st at 2:00 pm – {see virtual link below}.  \nOur topic this month will be ‘Travel with us to South East Asia’ and we are pleased to have Kirstin Shortt\, President of Urban Rural Rides who will tell us all about her recent trip to Asia.  She will be sharing information about the geography\, philosophy\, culture and the people including great photos and videos.  Hope you can drop by as this is a perfect time to connect with new friends especially in the rural community. \nBring a coffee and join us at our next meeting! \n\n\n\n  \n\n\n\n‘Travel with us to South East Asia’– 21 July 2023 – 2:00 pm – 4:00 pm (Atlantic Time – Halifax)\n\n\nJoin Zoom Meeting\nhttps://us06web.zoom.us/j/89585703620?pwd=bFJtckhVczBFZXNLbFhRM0E4K0JCdz09  \nMeeting ID: 895 8570 3620\nPasscode: 806068 \nFind your local number: https://us06web.zoom.us/u/kebmie6rM2 \n  \nOrganizers:   Kirstin Shortt\, Chairperson\, Urban Rural Rides – kshortturbanruralrides@gmail.com \nDebbi LeBlanc\, Manager\, Urban Rides – d.leblanc@volunteergreatermoncton.com
URL:https://volunteergreatermoncton.com/event/urr-virtual-drop-in-centre-meeting-travel-with-us-to-south-east-asia/
CATEGORIES:Community
ATTACH;FMTTYPE=image/jpeg:https://volunteergreatermoncton.com/wp-content/uploads/2023/07/drop-in-Asia.jpg
END:VEVENT
END:VCALENDAR