BEGIN:VCALENDAR
VERSION:2.0
PRODID:-//Volunteer Centre of Southeastern New Brunswick | Centre du Bénévolat du Sud-Est du Nouveau-Brunswick inc. - ECPv6.15.20//NONSGML v1.0//EN
CALSCALE:GREGORIAN
METHOD:PUBLISH
X-ORIGINAL-URL:https://volunteergreatermoncton.com
X-WR-CALDESC:Events for Volunteer Centre of Southeastern New Brunswick | Centre du Bénévolat du Sud-Est du Nouveau-Brunswick inc.
REFRESH-INTERVAL;VALUE=DURATION:PT1H
X-Robots-Tag:noindex
X-PUBLISHED-TTL:PT1H
BEGIN:VTIMEZONE
TZID:America/Moncton
BEGIN:DAYLIGHT
TZOFFSETFROM:-0400
TZOFFSETTO:-0300
TZNAME:ADT
DTSTART:20220313T060000
END:DAYLIGHT
BEGIN:STANDARD
TZOFFSETFROM:-0300
TZOFFSETTO:-0400
TZNAME:AST
DTSTART:20221106T050000
END:STANDARD
BEGIN:DAYLIGHT
TZOFFSETFROM:-0400
TZOFFSETTO:-0300
TZNAME:ADT
DTSTART:20230312T060000
END:DAYLIGHT
BEGIN:STANDARD
TZOFFSETFROM:-0300
TZOFFSETTO:-0400
TZNAME:AST
DTSTART:20231105T050000
END:STANDARD
BEGIN:DAYLIGHT
TZOFFSETFROM:-0400
TZOFFSETTO:-0300
TZNAME:ADT
DTSTART:20240310T060000
END:DAYLIGHT
BEGIN:STANDARD
TZOFFSETFROM:-0300
TZOFFSETTO:-0400
TZNAME:AST
DTSTART:20241103T050000
END:STANDARD
END:VTIMEZONE
BEGIN:VEVENT
DTSTART;VALUE=DATE:20230810
DTEND;VALUE=DATE:20230811
DTSTAMP:20260419T231648
CREATED:20230630T012857Z
LAST-MODIFIED:20230630T012958Z
UID:10000128-1691625600-1691711999@volunteergreatermoncton.com
SUMMARY:BGC Riverview is happy to announce its 5th golf tournament
DESCRIPTION:Join us for another year of fun and golf.  Taking place at the gorgeous Hillsborough Golf Course\, BGC Riverview is happy to announce its 5th golf tournament.  Hole in one prizes are in place as well as amazing raffles sponsored by our friends at Brunswick Royal Realty – 2 passes to the YQM Festival in August as well as a 1 year membership at the Hillsborough course.  All funds raised will support the great programs the club offers to the children and youth of our community.  Reach out to us at 506-387-7070 x 1 or 3 or email golf@bgcriverview.com.  Hope to see you on there!
URL:https://volunteergreatermoncton.com/event/bgc-riverview-is-happy-to-announce-its-5th-golf-tournament/
CATEGORIES:Community
ATTACH;FMTTYPE=image/jpeg:https://volunteergreatermoncton.com/wp-content/uploads/2023/06/2023-08-golf.jpg
END:VEVENT
END:VCALENDAR