BEGIN:VCALENDAR
VERSION:2.0
PRODID:-//Volunteer Centre of Southeastern New Brunswick | Centre du Bénévolat du Sud-Est du Nouveau-Brunswick inc. - ECPv6.15.20//NONSGML v1.0//EN
CALSCALE:GREGORIAN
METHOD:PUBLISH
X-WR-CALNAME:Volunteer Centre of Southeastern New Brunswick | Centre du Bénévolat du Sud-Est du Nouveau-Brunswick inc.
X-ORIGINAL-URL:https://volunteergreatermoncton.com
X-WR-CALDESC:Events for Volunteer Centre of Southeastern New Brunswick | Centre du Bénévolat du Sud-Est du Nouveau-Brunswick inc.
REFRESH-INTERVAL;VALUE=DURATION:PT1H
X-Robots-Tag:noindex
X-PUBLISHED-TTL:PT1H
BEGIN:VTIMEZONE
TZID:America/Moncton
BEGIN:DAYLIGHT
TZOFFSETFROM:-0400
TZOFFSETTO:-0300
TZNAME:ADT
DTSTART:20220313T060000
END:DAYLIGHT
BEGIN:STANDARD
TZOFFSETFROM:-0300
TZOFFSETTO:-0400
TZNAME:AST
DTSTART:20221106T050000
END:STANDARD
BEGIN:DAYLIGHT
TZOFFSETFROM:-0400
TZOFFSETTO:-0300
TZNAME:ADT
DTSTART:20230312T060000
END:DAYLIGHT
BEGIN:STANDARD
TZOFFSETFROM:-0300
TZOFFSETTO:-0400
TZNAME:AST
DTSTART:20231105T050000
END:STANDARD
BEGIN:DAYLIGHT
TZOFFSETFROM:-0400
TZOFFSETTO:-0300
TZNAME:ADT
DTSTART:20240310T060000
END:DAYLIGHT
BEGIN:STANDARD
TZOFFSETFROM:-0300
TZOFFSETTO:-0400
TZNAME:AST
DTSTART:20241103T050000
END:STANDARD
END:VTIMEZONE
BEGIN:VEVENT
DTSTART;TZID=America/Moncton:20231011T090000
DTEND;TZID=America/Moncton:20231012T170000
DTSTAMP:20260419T194822
CREATED:20230709T100803Z
LAST-MODIFIED:20230709T110027Z
UID:10000134-1697014800-1697130000@volunteergreatermoncton.com
SUMMARY:Dementia Capable Support of Adults with Intellectual Disabilities & Dementia WOKSHOP
DESCRIPTION:Unfortunately\, the workshop\, Dementia Capable Support of Adults with Intellectual Disabilities & Dementia\, scheduled for June had to be cancelled due to low registration.  The National Task Group on Intellectual Disabilities and Dementia Practices would like to re-schedule this workshop in the fall\, provided registration numbers can support this in-person event. \nWho Is The National Task Group? –   Canadian Consortium  \nA collective of professionals\, academics\, agency personnel and family with interest in advocacy\, education\, and program/services development on behalf of Canadians with intellectual and developmental disabilities at risk of or living with dementia. The Consortium has advised on matters related to developmental disabilities for the development of A Dementia Strategy for Canada: Together We Aspire and provides technical assistance and programmatic and education advice and is currently working on a national dementia project that is operating under federal funding through the Public Health Agency Of Canada.  The two curriculum instructors are co-leads on this project\, together with Reena in Ontario. \nWho Are the Curriculum Instructors? \nNancy Jokinen has a MSW with a Gerontology Specialization (Lakehead University) and a PhD in Community Rehabilitation and Disability Studies (University of Calgary).  Prior to graduate studies Nancy worked for over 20 years in services and supports for adults with intellectual disabilities and their families.  She also has experience in mental health services\, long term care and a special care unit for people with dementia.  Currently Nancy is an Adjunct Professor for the School of Social Work at the University of Northern British Columbia\, a Board member of the NTG in the United States\, and a co-lead on the NTG-Canadian Consortium. \nLeslie Udell has a degree in Community Rehabilitation from the University of Calgary.  She spent 30 years working for an agency\, in Winnipeg\, Manitoba\, that provided residential supports to adults with an intellectual disability.  Much of her focus\, over that time\, was on aging related issues and dementia.  In 1998 she contributed a chapter in “Dementia and Aging Adults with Intellectual Disabilities: A Handbook” as well as another chapter\, in 2014\, in the book “Intellectual Disability and Dementia: Research into Practice”.  Leslie also developed and taught two courses at Red River College; Cognitive Impairment and Grief\, Loss and Palliative Care and operates her own consultant business.  She is a co-lead on the NTG-Canadian Consortium. \nWorkshop Outcome: Greater understanding of dementia and its effects on people with intellectual disabilities\, greater capacity to provide dementia-capable direct services to adults with ID and dementia\, and knowledge of how to develop a dementia-capable environment and support. \nCosts: 2 Day Basic Workshop – $350 / 3 Day “Regional Trainer” Workshop – $550. \nAt this time\, NTG would greatly appreciate feedback as to why organizations did not register for the workshop scheduled in June\,  and if they would plan to register if it was held in the fall.  The National Task Group is able to facilitate a workshop either\, October 11 – 13\, or October 16 – 18.  Moncton Employment & Training Services\, Inc. is able to provide the training facility during those dates.  METS is located near downtown Moncton. \nYour feedback is greatly appreciated.  Please forward your response or inquiries to David Richard – execdir@metsinc.ca \nThank you\, \nDavid Richard\nExecutive Director\n_________________________________\nMoncton Employment & Training Services\, Inc.\n1250 St George Boulevard\nMoncton NB   E1E 3S1\ntel: (506) 858-9404 ext 202\nfax: (506) 858-8090\ne-mail: execdir@metsinc.ca\nweb: www.metsinc.ca
URL:https://volunteergreatermoncton.com/event/dementia-capable-support-of-adults-with-intellectual-disabilities-dementia-wokshop/
CATEGORIES:Community
ATTACH;FMTTYPE=image/jpeg:https://volunteergreatermoncton.com/wp-content/uploads/2023/04/NTG-Registration-Flyer-Moncton.jpg
END:VEVENT
END:VCALENDAR