BEGIN:VCALENDAR
VERSION:2.0
PRODID:-//Volunteer Centre of Southeastern New Brunswick | Centre du Bénévolat du Sud-Est du Nouveau-Brunswick inc. - ECPv6.15.20//NONSGML v1.0//EN
CALSCALE:GREGORIAN
METHOD:PUBLISH
X-WR-CALNAME:Volunteer Centre of Southeastern New Brunswick | Centre du Bénévolat du Sud-Est du Nouveau-Brunswick inc.
X-ORIGINAL-URL:https://volunteergreatermoncton.com
X-WR-CALDESC:Events for Volunteer Centre of Southeastern New Brunswick | Centre du Bénévolat du Sud-Est du Nouveau-Brunswick inc.
REFRESH-INTERVAL;VALUE=DURATION:PT1H
X-Robots-Tag:noindex
X-PUBLISHED-TTL:PT1H
BEGIN:VTIMEZONE
TZID:America/Moncton
BEGIN:DAYLIGHT
TZOFFSETFROM:-0400
TZOFFSETTO:-0300
TZNAME:ADT
DTSTART:20220313T060000
END:DAYLIGHT
BEGIN:STANDARD
TZOFFSETFROM:-0300
TZOFFSETTO:-0400
TZNAME:AST
DTSTART:20221106T050000
END:STANDARD
BEGIN:DAYLIGHT
TZOFFSETFROM:-0400
TZOFFSETTO:-0300
TZNAME:ADT
DTSTART:20230312T060000
END:DAYLIGHT
BEGIN:STANDARD
TZOFFSETFROM:-0300
TZOFFSETTO:-0400
TZNAME:AST
DTSTART:20231105T050000
END:STANDARD
BEGIN:DAYLIGHT
TZOFFSETFROM:-0400
TZOFFSETTO:-0300
TZNAME:ADT
DTSTART:20240310T060000
END:DAYLIGHT
BEGIN:STANDARD
TZOFFSETFROM:-0300
TZOFFSETTO:-0400
TZNAME:AST
DTSTART:20241103T050000
END:STANDARD
END:VTIMEZONE
BEGIN:VEVENT
DTSTART;VALUE=DATE:20231016
DTEND;VALUE=DATE:20231022
DTSTAMP:20260419T194825
CREATED:20231004T021009Z
LAST-MODIFIED:20231004T021009Z
UID:10000152-1697414400-1697932799@volunteergreatermoncton.com
SUMMARY:Moncton Heritage week
DESCRIPTION:Join us for the fourth edition of Moncton Heritage Week\, presented by the City of Moncton’s Heritage Conservation Board\, the Culture and Heritage department\, the Planning and Development department and local partners. \nAll events are free\, and open to all!\nFor the events and information\, visit: https://www.moncton.ca/heritage-week.
URL:https://volunteergreatermoncton.com/event/moncton-heritage-week/
CATEGORIES:Community
ATTACH;FMTTYPE=image/jpeg:https://volunteergreatermoncton.com/wp-content/uploads/2023/10/heritage-week.jpeg
END:VEVENT
BEGIN:VEVENT
DTSTART;TZID=America/Moncton:20231019T180000
DTEND;TZID=America/Moncton:20231019T210000
DTSTAMP:20260419T194825
CREATED:20231016T144336Z
LAST-MODIFIED:20231016T144454Z
UID:10000154-1697738400-1697749200@volunteergreatermoncton.com
SUMMARY:Garage Night fundraiser!!
DESCRIPTION:Join us for our popular Garage Night fundraiser!!  A great meal with friends\, raffles\, auctions and the chance to support the children and youth of the community.  This is the first time since 2019 we have been able to hold this event in person and it the tables will go fast.  A table of 8 is $550 and individual tickets are $75.  Seats are limited so don’t wait! Call Sara to book yours.  506-387-7070×3.  See you there!!
URL:https://volunteergreatermoncton.com/event/garage-night-fundraiser/
CATEGORIES:Community
ATTACH;FMTTYPE=image/jpeg:https://volunteergreatermoncton.com/wp-content/uploads/2023/10/garage-night.jpg
END:VEVENT
END:VCALENDAR