BEGIN:VCALENDAR
VERSION:2.0
PRODID:-//Volunteer Centre of Southeastern New Brunswick | Centre du Bénévolat du Sud-Est du Nouveau-Brunswick inc. - ECPv6.15.20//NONSGML v1.0//EN
CALSCALE:GREGORIAN
METHOD:PUBLISH
X-ORIGINAL-URL:https://volunteergreatermoncton.com
X-WR-CALDESC:Events for Volunteer Centre of Southeastern New Brunswick | Centre du Bénévolat du Sud-Est du Nouveau-Brunswick inc.
REFRESH-INTERVAL;VALUE=DURATION:PT1H
X-Robots-Tag:noindex
X-PUBLISHED-TTL:PT1H
BEGIN:VTIMEZONE
TZID:America/Moncton
BEGIN:DAYLIGHT
TZOFFSETFROM:-0400
TZOFFSETTO:-0300
TZNAME:ADT
DTSTART:20230312T060000
END:DAYLIGHT
BEGIN:STANDARD
TZOFFSETFROM:-0300
TZOFFSETTO:-0400
TZNAME:AST
DTSTART:20231105T050000
END:STANDARD
BEGIN:DAYLIGHT
TZOFFSETFROM:-0400
TZOFFSETTO:-0300
TZNAME:ADT
DTSTART:20240310T060000
END:DAYLIGHT
BEGIN:STANDARD
TZOFFSETFROM:-0300
TZOFFSETTO:-0400
TZNAME:AST
DTSTART:20241103T050000
END:STANDARD
BEGIN:DAYLIGHT
TZOFFSETFROM:-0400
TZOFFSETTO:-0300
TZNAME:ADT
DTSTART:20250309T060000
END:DAYLIGHT
BEGIN:STANDARD
TZOFFSETFROM:-0300
TZOFFSETTO:-0400
TZNAME:AST
DTSTART:20251102T050000
END:STANDARD
END:VTIMEZONE
BEGIN:VEVENT
DTSTART;TZID=America/Moncton:20240222T180000
DTEND;TZID=America/Moncton:20240222T180000
DTSTAMP:20260419T135204
CREATED:20240117T151115Z
LAST-MODIFIED:20240117T151405Z
UID:10000178-1708624800-1708624800@volunteergreatermoncton.com
SUMMARY:Bling Fling!
DESCRIPTION:GC Riverview and Brunswick Royal Realty is excited to present this year’s Bling Fling!  A fun night of food\, entertainment\, prizes and auctions.  Join us for a great evening of entertainment and the chance to win “the bling”.   \nIt will be held on Thursday\, February 22nd at the Coverdale Center located at 50 Runneymeade Road in Riverview.  Doors will open at 6pm.   \nYou can call 506-387-7070 ext 3 to order your tickets.  $70 each or a table of 8 for $525.  There are limited seats available so don’t wait.  Our event usually sells out quickly so don’t miss out!!  We look forward to seeing you there. \nFunds raised at this event will go to supporting the programming for children and youth\, such as youth Drop in\, in school breakfast\, and so much more.
URL:https://volunteergreatermoncton.com/event/bling-fling/
CATEGORIES:Community
ATTACH;FMTTYPE=image/jpeg:https://volunteergreatermoncton.com/wp-content/uploads/2024/01/bling-fling-title.jpg
END:VEVENT
END:VCALENDAR