BEGIN:VCALENDAR
VERSION:2.0
PRODID:-//Volunteer Centre of Southeastern New Brunswick | Centre du Bénévolat du Sud-Est du Nouveau-Brunswick inc. - ECPv6.15.20//NONSGML v1.0//EN
CALSCALE:GREGORIAN
METHOD:PUBLISH
X-ORIGINAL-URL:https://volunteergreatermoncton.com
X-WR-CALDESC:Events for Volunteer Centre of Southeastern New Brunswick | Centre du Bénévolat du Sud-Est du Nouveau-Brunswick inc.
REFRESH-INTERVAL;VALUE=DURATION:PT1H
X-Robots-Tag:noindex
X-PUBLISHED-TTL:PT1H
BEGIN:VTIMEZONE
TZID:America/Moncton
BEGIN:DAYLIGHT
TZOFFSETFROM:-0400
TZOFFSETTO:-0300
TZNAME:ADT
DTSTART:20230312T060000
END:DAYLIGHT
BEGIN:STANDARD
TZOFFSETFROM:-0300
TZOFFSETTO:-0400
TZNAME:AST
DTSTART:20231105T050000
END:STANDARD
BEGIN:DAYLIGHT
TZOFFSETFROM:-0400
TZOFFSETTO:-0300
TZNAME:ADT
DTSTART:20240310T060000
END:DAYLIGHT
BEGIN:STANDARD
TZOFFSETFROM:-0300
TZOFFSETTO:-0400
TZNAME:AST
DTSTART:20241103T050000
END:STANDARD
BEGIN:DAYLIGHT
TZOFFSETFROM:-0400
TZOFFSETTO:-0300
TZNAME:ADT
DTSTART:20250309T060000
END:DAYLIGHT
BEGIN:STANDARD
TZOFFSETFROM:-0300
TZOFFSETTO:-0400
TZNAME:AST
DTSTART:20251102T050000
END:STANDARD
END:VTIMEZONE
BEGIN:VEVENT
DTSTART;TZID=America/Moncton:20240328T140000
DTEND;TZID=America/Moncton:20240328T153000
DTSTAMP:20260423T071831
CREATED:20240210T163844Z
LAST-MODIFIED:20240210T204625Z
UID:10000186-1711634400-1711639800@volunteergreatermoncton.com
SUMMARY:Bipolar Mood Disorder Program
DESCRIPTION:Wednesdays\, March 28th – May 22nd\n2:00 PM – 3:30 PM  \nThe 12-week Bipolar Mood Disorder Program provides participants with education\, information\, support and development of coping strategies\, building resilience\, enhancing communication ski lis as well as improving overall quality of life for those living in the community with a diagnosis of bipolar disorder.\nFor more information & registration\, contact Luc Couturier at:\nluc.couturier@cmhanb-acsmnb.ca
URL:https://volunteergreatermoncton.com/event/bipolar-mood-disorder-program/
CATEGORIES:Community
ATTACH;FMTTYPE=image/jpeg:https://volunteergreatermoncton.com/wp-content/uploads/2024/02/bipolar.jpg
END:VEVENT
END:VCALENDAR