BEGIN:VCALENDAR
VERSION:2.0
PRODID:-//Volunteer Centre of Southeastern New Brunswick | Centre du Bénévolat du Sud-Est du Nouveau-Brunswick inc. - ECPv6.15.20//NONSGML v1.0//EN
CALSCALE:GREGORIAN
METHOD:PUBLISH
X-WR-CALNAME:Volunteer Centre of Southeastern New Brunswick | Centre du Bénévolat du Sud-Est du Nouveau-Brunswick inc.
X-ORIGINAL-URL:https://volunteergreatermoncton.com
X-WR-CALDESC:Events for Volunteer Centre of Southeastern New Brunswick | Centre du Bénévolat du Sud-Est du Nouveau-Brunswick inc.
REFRESH-INTERVAL;VALUE=DURATION:PT1H
X-Robots-Tag:noindex
X-PUBLISHED-TTL:PT1H
BEGIN:VTIMEZONE
TZID:America/Moncton
BEGIN:DAYLIGHT
TZOFFSETFROM:-0400
TZOFFSETTO:-0300
TZNAME:ADT
DTSTART:20230312T060000
END:DAYLIGHT
BEGIN:STANDARD
TZOFFSETFROM:-0300
TZOFFSETTO:-0400
TZNAME:AST
DTSTART:20231105T050000
END:STANDARD
BEGIN:DAYLIGHT
TZOFFSETFROM:-0400
TZOFFSETTO:-0300
TZNAME:ADT
DTSTART:20240310T060000
END:DAYLIGHT
BEGIN:STANDARD
TZOFFSETFROM:-0300
TZOFFSETTO:-0400
TZNAME:AST
DTSTART:20241103T050000
END:STANDARD
BEGIN:DAYLIGHT
TZOFFSETFROM:-0400
TZOFFSETTO:-0300
TZNAME:ADT
DTSTART:20250309T060000
END:DAYLIGHT
BEGIN:STANDARD
TZOFFSETFROM:-0300
TZOFFSETTO:-0400
TZNAME:AST
DTSTART:20251102T050000
END:STANDARD
END:VTIMEZONE
BEGIN:VEVENT
DTSTART;TZID=America/Moncton:20240605T130000
DTEND;TZID=America/Moncton:20240605T150000
DTSTAMP:20260423T122047
CREATED:20240528T212220Z
LAST-MODIFIED:20240530T195129Z
UID:10000218-1717592400-1717599600@volunteergreatermoncton.com
SUMMARY:Nature walk
DESCRIPTION:Every Wednesdays from 1 pm to 3 pm\nDoiron House\, 1150 Amirault street\nComité des ainés de la ville de Dieppe
URL:https://volunteergreatermoncton.com/event/nature-walk/
CATEGORIES:Community
ATTACH;FMTTYPE=image/jpeg:https://volunteergreatermoncton.com/wp-content/uploads/2024/05/dieppe-randonnee.jpg
END:VEVENT
BEGIN:VEVENT
DTSTART;TZID=America/Moncton:20240605T140000
DTEND;TZID=America/Moncton:20240605T153000
DTSTAMP:20260423T122047
CREATED:20240410T234257Z
LAST-MODIFIED:20240530T195027Z
UID:10000200-1717596000-1717601400@volunteergreatermoncton.com
SUMMARY:Wonderful Wednesdays | YMCA Moncton
DESCRIPTION:Stop by to pick up FREE items (diapers\, children’s items\, sanitary pads\, seasonal clothing – items change monthly!)\, grab a coffee\, chat with YWCA staff\, learn about YWCA programs and fill out registration forms. We can’t wait to see you! \nLast Wednesday of each month\, at the Beechwood Community Centre. \nFor more information\, please contact: Ashley MacDonald at amacdonald@ywcamoncton.com or (506) 855-4349 ext. 303.
URL:https://volunteergreatermoncton.com/event/wonderful-wednesdays-ymca-moncton/
CATEGORIES:Community
ATTACH;FMTTYPE=image/jpeg:https://volunteergreatermoncton.com/wp-content/uploads/2024/04/YMCA-MONCTON.jpg
END:VEVENT
END:VCALENDAR