BEGIN:VCALENDAR
VERSION:2.0
PRODID:-//Volunteer Centre of Southeastern New Brunswick | Centre du Bénévolat du Sud-Est du Nouveau-Brunswick inc. - ECPv6.15.20//NONSGML v1.0//EN
CALSCALE:GREGORIAN
METHOD:PUBLISH
X-ORIGINAL-URL:https://volunteergreatermoncton.com/fr/
X-WR-CALDESC:Évènements pour Volunteer Centre of Southeastern New Brunswick | Centre du Bénévolat du Sud-Est du Nouveau-Brunswick inc.
REFRESH-INTERVAL;VALUE=DURATION:PT1H
X-Robots-Tag:noindex
X-PUBLISHED-TTL:PT1H
BEGIN:VTIMEZONE
TZID:America/Moncton
BEGIN:DAYLIGHT
TZOFFSETFROM:-0400
TZOFFSETTO:-0300
TZNAME:ADT
DTSTART:20210314T060000
END:DAYLIGHT
BEGIN:STANDARD
TZOFFSETFROM:-0300
TZOFFSETTO:-0400
TZNAME:AST
DTSTART:20211107T050000
END:STANDARD
BEGIN:DAYLIGHT
TZOFFSETFROM:-0400
TZOFFSETTO:-0300
TZNAME:ADT
DTSTART:20220313T060000
END:DAYLIGHT
BEGIN:STANDARD
TZOFFSETFROM:-0300
TZOFFSETTO:-0400
TZNAME:AST
DTSTART:20221106T050000
END:STANDARD
BEGIN:DAYLIGHT
TZOFFSETFROM:-0400
TZOFFSETTO:-0300
TZNAME:ADT
DTSTART:20230312T060000
END:DAYLIGHT
BEGIN:STANDARD
TZOFFSETFROM:-0300
TZOFFSETTO:-0400
TZNAME:AST
DTSTART:20231105T050000
END:STANDARD
END:VTIMEZONE
BEGIN:VEVENT
DTSTART;TZID=America/Moncton:20220930T050000
DTEND;TZID=America/Moncton:20220930T230000
DTSTAMP:20260422T075036
CREATED:20220927T155254Z
LAST-MODIFIED:20221124T034059Z
UID:10000028-1664514000-1664578800@volunteergreatermoncton.com
SUMMARY:Journée nationale de la vérité et de la réconciliation
DESCRIPTION:La Journée du chandail orange est une journée de commémoration organisée par les communautés autochtones visant à sensibiliser aux conséquences intergénérationnelles des pensionnats sur les individus\, les familles et les communautés\, et à promouvoir le concept « Chaque enfant compte ». Le chandail orange est un symbole de la dépossession de la culture\, de la liberté et de l’estime de soi dont ont été victimes les enfants autochtones pendant plusieurs générations. \nhttps://www.canada.ca/fr/patrimoine-canadien/campagnes/journee-nationale-verite-reconciliation.html \nDécouvrez les programmes et les services du gouvernement du Canada à l’intention des Premières Nations\, des Inuit et des Métis. Obtenez des précisions sur les Autochtones et leurs communautés. Cliquez ici \n\nJourney Towards Truth and Reconciliation (PDF)\nDocument product par le groupe de travail ‘Vérité et de la réconciliation’\, une initiative de Bénévole Canada. Notre directrice générale\, Annette Vautour\, fait partie de ce groupe. \n\nNational Truth and Reconciliation Day was honored and celebrated within the three Municipalities of Dieppe/Moncton/ Riverview that we serve.\n \nNational Day For Truth And Reconciliation \nFriday marks the second annual National Day for Truth and Reconciliation across Canada. The federal statutory … \nwww.919thebend.ca \nhttps://www.moncton.ca/node/796 \nhttps://www.cbc.ca/news/canada/new-brunswick/moncton-municipal-truth-reconciliation-holiday-1.6167683 \n \nMoncton makes Truth and Reconciliation day a holiday for city staff | CBC News \nNew Brunswick’s largest city is giving its employees a paid holiday to observe Canada’s first National Day for Truth and Reconciliation later this month\, joining other communities in the province. \nhttps://nben.ca/en/get-involved/events/all-events/general-nben-events/webinars/516-truth-and-reconciliation-week-2022.html \nTruth and Reconciliation Week 2022-Webinars – nben.ca \nRegister now to participate in Truth and Reconciliation Week 2022. This year\, our theme is “Remembering the Children”. Join us as we memorialize the children lost to the residential school system and honour Survivors and their families. \nnben.ca \nhttps://globalnews.ca/news/9149463/new-brunswick-truth-reconciliation-day/ \n \nRoyal Canadian Mint commemorates National Day for Truth and Reconciliation \nThe Royal Canadian Mint unveiled a new Keepsake ahead of the National Day for Truth and Reconciliation on Thursday. The face of the keepsake reads « Every Child Matters » surrounded by small footprints facing counter-clockwise. Survivor Eugene Arcand says to him\, the feet represent the heartache caused by Residential Schools adding that « when … \nglobalnews.ca \nTown of Riverview and City of Moncton T & R Events – September 30\, 2022. \nhttps://www.townofriverview.ca/news/town-observes-national-day-for-truth-and-reconciliation-sept-30#:~:text=On%20September%2030%2C%202021%2C%20the\,reflection%20on%20the%20Indigenous%20experience. \n \nTown observes National Day for Truth and Reconciliation\, Sept. 30 \nOn September 30\, 2021\, the Town of Riverview will observe Canada’s first National Day for Truth and Reconciliation by closing municipal offices and most non-essential services. As an employer\, we are encouraging non-Indigenous staff to make this day about learning and reflection on the Indigenous experience. We are also providing additional training and professional \nwww.townofriverview.ca \nhttps://www.dieppe.ca/en/vivre-ici/journ-e-nationale-de-la-v-rit-et-de-la-r-conciliation.aspx \n \nNational Day for Truth and Reconciliation – City of Dieppe \nThe National Day for Truth and Reconciliation is an opportunity for employees and residents of the municipality to honour residential school survivors\, who number in the thousands. \nwww.dieppe.ca
URL:https://volunteergreatermoncton.com/fr/event/national-day-for-truth-and-reconciliation-canada-ca/
CATEGORIES:Communauté
ATTACH;FMTTYPE=image/jpeg:https://volunteergreatermoncton.com/wp-content/uploads/2022/09/truth-and-reconciliation.jpg
END:VEVENT
END:VCALENDAR